Back to Multiple platform build/check report for BioC 3.12
[A]BCDEFGHIJKLMNOPQRSTUVWXYZ

BUILD BIN report for agilp on tokay1

This page was generated on 2020-08-07 12:01:23 -0400 (Fri, 07 Aug 2020).

TO THE DEVELOPERS/MAINTAINERS OF THE agilp PACKAGE: Please make sure to use the following settings in order to reproduce any error or warning you see on this page.
Package 37/1882HostnameOS / ArchINSTALLBUILDCHECKBUILD BIN
agilp 3.21.0
Benny Chain
Snapshot Date: 2020-08-06 14:50:46 -0400 (Thu, 06 Aug 2020)
URL: https://git.bioconductor.org/packages/agilp
Branch: master
Last Commit: 653f88f
Last Changed Date: 2020-04-27 14:31:27 -0400 (Mon, 27 Apr 2020)
malbec1 Linux (Ubuntu 18.04.4 LTS) / x86_64  OK  OK  OK UNNEEDED, same version exists in internal repository
tokay1 Windows Server 2012 R2 Standard / x64  OK  OK  OK [ OK ]UNNEEDED, same version exists in internal repository
merida1 macOS 10.14.6 Mojave / x86_64  OK  OK  OK  OK UNNEEDED, same version exists in internal repository

Summary

Package: agilp
Version: 3.21.0
Command: rm -rf agilp.buildbin-libdir && mkdir agilp.buildbin-libdir && C:\Users\biocbuild\bbs-3.12-bioc\R\bin\R.exe CMD INSTALL --merge-multiarch --build --library=agilp.buildbin-libdir agilp_3.21.0.tar.gz
StartedAt: 2020-08-07 07:22:32 -0400 (Fri, 07 Aug 2020)
EndedAt: 2020-08-07 07:23:06 -0400 (Fri, 07 Aug 2020)
EllapsedTime: 34.5 seconds
RetCode: 0
Status:  OK  
PackageFile: agilp_3.21.0.zip
PackageFileSize: 463.6 KiB

Command output

##############################################################################
##############################################################################
###
### Running command:
###
###   rm -rf agilp.buildbin-libdir && mkdir agilp.buildbin-libdir && C:\Users\biocbuild\bbs-3.12-bioc\R\bin\R.exe CMD INSTALL --merge-multiarch --build --library=agilp.buildbin-libdir agilp_3.21.0.tar.gz
###
##############################################################################
##############################################################################



install for i386

* installing *source* package 'agilp' ...
** using staged installation
** R
** inst
** byte-compile and prepare package for lazy loading
** help
*** installing help indices
  converting help for package 'agilp'
    finding HTML links ... done
    AALoess                                 html  
    AAProcess                               html  
    Baseline                                html  
    Equaliser                               html  
    IDswop                                  html  
    Loader                                  html  
    filenamex                               html  
** building package indices
** installing vignettes
** testing if installed package can be loaded from temporary location
** testing if installed package can be loaded from final location
** testing if installed package keeps a record of temporary installation path

install for x64

* installing *source* package 'agilp' ...
** testing if installed package can be loaded
* MD5 sums
packaged installation of 'agilp' as agilp_3.21.0.zip
* DONE (agilp)