Back to Multiple platform build/check report for BioC 3.12
A[B]CDEFGHIJKLMNOPQRSTUVWXYZ

BUILD BIN report for BioNet on merida1

This page was generated on 2020-11-26 12:23:33 -0500 (Thu, 26 Nov 2020).

TO THE DEVELOPERS/MAINTAINERS OF THE BioNet PACKAGE: Please make sure to use the following settings in order to reproduce any error or warning you see on this page.
Package 182/1974HostnameOS / ArchINSTALLBUILDCHECKBUILD BIN
BioNet 1.50.0
Marcus Dittrich
Snapshot Date: 2020-11-25 14:42:33 -0500 (Wed, 25 Nov 2020)
URL: https://git.bioconductor.org/packages/BioNet
Branch: RELEASE_3_12
Last Commit: a4e5179
Last Changed Date: 2020-10-27 10:38:44 -0500 (Tue, 27 Oct 2020)
malbec1 Linux (Ubuntu 18.04.4 LTS) / x86_64  OK  OK  OK UNNEEDED, same version exists in internal repository
nebbiolo1 Linux (Ubuntu 20.04.1 LTS) / x86_64  OK  OK  OK 
tokay1 Windows Server 2012 R2 Standard / x64  OK  OK  OK  OK UNNEEDED, same version exists in internal repository
merida1 macOS 10.14.6 Mojave / x86_64  OK  OK  OK [ OK ]UNNEEDED, same version exists in internal repository

Summary

Package: BioNet
Version: 1.50.0
Command: rm -rf BioNet.buildbin-libdir && mkdir BioNet.buildbin-libdir && /Users/biocbuild/BBS/utils/build-universal.sh BioNet_1.50.0.tar.gz /Library/Frameworks/R.framework/Versions/Current/Resources/bin/R BioNet.buildbin-libdir
StartedAt: 2020-11-26 07:56:46 -0500 (Thu, 26 Nov 2020)
EndedAt: 2020-11-26 07:57:28 -0500 (Thu, 26 Nov 2020)
EllapsedTime: 41.5 seconds
RetCode: 0
Status:  OK 
PackageFile: BioNet_1.50.0.tgz
PackageFileSize: 1.422 MiB

Command output

##############################################################################
##############################################################################
###
### Running command:
###
###   rm -rf BioNet.buildbin-libdir && mkdir BioNet.buildbin-libdir && /Users/biocbuild/BBS/utils/build-universal.sh BioNet_1.50.0.tar.gz /Library/Frameworks/R.framework/Versions/Current/Resources/bin/R BioNet.buildbin-libdir
###
##############################################################################
##############################################################################


>>>>>>> 
>>>>>>> INSTALLATION WITH 'R CMD INSTALL --preclean --no-multiarch --library=BioNet.buildbin-libdir BioNet_1.50.0.tar.gz'
>>>>>>> 

* installing *source* package ‘BioNet’ ...
** using staged installation
** R
** data
** inst
** byte-compile and prepare package for lazy loading
** help
*** installing help indices
** building package indices
** installing vignettes
** testing if installed package can be loaded from temporary location
** testing if installed package can be loaded from final location
** testing if installed package keeps a record of temporary installation path
* DONE (BioNet)