Back to Multiple platform build/check report for BioC 3.12
A[B]CDEFGHIJKLMNOPQRSTUVWXYZ

INSTALL report for beadarraySNP on tokay1

This page was generated on 2020-08-10 12:11:10 -0400 (Mon, 10 Aug 2020).

TO THE DEVELOPERS/MAINTAINERS OF THE beadarraySNP PACKAGE: Please make sure to use the following settings in order to reproduce any error or warning you see on this page.
Package 127/1882HostnameOS / ArchINSTALLBUILDCHECKBUILD BIN
beadarraySNP 1.55.0
Jan Oosting
Snapshot Date: 2020-08-09 14:51:29 -0400 (Sun, 09 Aug 2020)
URL: https://git.bioconductor.org/packages/beadarraySNP
Branch: master
Last Commit: 5922a97
Last Changed Date: 2020-04-27 14:13:54 -0400 (Mon, 27 Apr 2020)
malbec1 Linux (Ubuntu 18.04.4 LTS) / x86_64  OK  OK  OK UNNEEDED, same version exists in internal repository
nebbiolo1 Linux (Ubuntu 20.04.1 LTS) / x86_64  OK  OK  OK 
tokay1 Windows Server 2012 R2 Standard / x64 [ OK ] OK  OK  OK UNNEEDED, same version exists in internal repository
merida1 macOS 10.14.6 Mojave / x86_64  OK  OK  OK  OK UNNEEDED, same version exists in internal repository

Summary

Package: beadarraySNP
Version: 1.55.0
Command: C:\cygwin\bin\curl.exe -O https://malbec1.bioconductor.org/BBS/3.12/bioc/src/contrib/beadarraySNP_1.55.0.tar.gz && rm -rf beadarraySNP.buildbin-libdir && mkdir beadarraySNP.buildbin-libdir && C:\Users\biocbuild\bbs-3.12-bioc\R\bin\R.exe CMD INSTALL --merge-multiarch --build --library=beadarraySNP.buildbin-libdir beadarraySNP_1.55.0.tar.gz && C:\Users\biocbuild\bbs-3.12-bioc\R\bin\R.exe CMD INSTALL beadarraySNP_1.55.0.zip && rm beadarraySNP_1.55.0.tar.gz beadarraySNP_1.55.0.zip
StartedAt: 2020-08-09 16:53:58 -0400 (Sun, 09 Aug 2020)
EndedAt: 2020-08-09 16:55:05 -0400 (Sun, 09 Aug 2020)
EllapsedTime: 66.9 seconds
RetCode: 0
Status:  OK  

Command output

##############################################################################
##############################################################################
###
### Running command:
###
###   C:\cygwin\bin\curl.exe -O https://malbec1.bioconductor.org/BBS/3.12/bioc/src/contrib/beadarraySNP_1.55.0.tar.gz && rm -rf beadarraySNP.buildbin-libdir && mkdir beadarraySNP.buildbin-libdir && C:\Users\biocbuild\bbs-3.12-bioc\R\bin\R.exe CMD INSTALL --merge-multiarch --build --library=beadarraySNP.buildbin-libdir beadarraySNP_1.55.0.tar.gz && C:\Users\biocbuild\bbs-3.12-bioc\R\bin\R.exe CMD INSTALL beadarraySNP_1.55.0.zip && rm beadarraySNP_1.55.0.tar.gz beadarraySNP_1.55.0.zip
###
##############################################################################
##############################################################################


  % Total    % Received % Xferd  Average Speed   Time    Time     Time  Current
                                 Dload  Upload   Total   Spent    Left  Speed

  0     0    0     0    0     0      0      0 --:--:-- --:--:-- --:--:--     0
100  436k  100  436k    0     0  13.1M      0 --:--:-- --:--:-- --:--:-- 14.7M

install for i386

* installing *source* package 'beadarraySNP' ...
** using staged installation
** R
** data
** inst
** byte-compile and prepare package for lazy loading
** help
*** installing help indices
  converting help for package 'beadarraySNP'
    finding HTML links ... done
    BeadstudioQC                            html  
    CopynumberConversion                    html  
    Datasets                                html  
    GenomicReports                          html  
    GetBeadStudioSampleNames                html  
    PolarTransforms                         html  
    QCIllumina-class                        html  
    Sample_Map2Samplesheet                  html  
    SnpSetSegments-class                    html  
    finding level-2 HTML links ... done

    alterCN                                 html  
    arrayType                               html  
    backgroundCorrect.SNP                   html  
    backgroundEstimate                      html  
    calculateLOH                            html  
    calculateQCarray                        html  
    class.SnpSetIllumina                    html  
    compareGenotypes                        html  
    createCNSummary                         html  
    dist.GT                                 html  
    getDNAindex                             html  
    heterozygosity                          html  
    heterozygousSNPs                        html  
    interactiveCNselect                     html  
    normalizeBetweenAlleles.SNP             html  
    normalizeBetweenSubsamples.SNP          html  
    normalizeLoci.SNP                       html  
    normalizeWithinArrays.SNP               html  
    pdfChromosomesSmoothCopyNumber          html  
    pdfQC                                   html  
    plotGoldenGate4OPA                      html  
    plotQC                                  html  
    read.SnpSetIllumina                     html  
    removeLowQualityProbes                  html  
    removeLowQualitySamples                 html  
    renameOPA                               html  
    reportGenotypeSegmentation              html  
    reportSamplePanelQC-methods             html  
    segmentate                              html  
    setRealCN                               html  
    smoothed.intensity                      html  
    standardNormalization                   html  
** building package indices
** installing vignettes
** testing if installed package can be loaded from temporary location
** testing if installed package can be loaded from final location
** testing if installed package keeps a record of temporary installation path

install for x64

* installing *source* package 'beadarraySNP' ...
** testing if installed package can be loaded
* MD5 sums
packaged installation of 'beadarraySNP' as beadarraySNP_1.55.0.zip
* DONE (beadarraySNP)
* installing to library 'C:/Users/biocbuild/bbs-3.12-bioc/R/library'
package 'beadarraySNP' successfully unpacked and MD5 sums checked