Back to Multiple platform build/check report for BioC 3.12
ABCDEFGHIJKL[M]NOPQRSTUVWXYZ

Multiple platform build/check report for BioC 3.12

Results for MSstatsQCgui

This page was generated on 2020-10-25 12:00:48 -0400 (Sun, 25 Oct 2020).

Package 1169/1974HostnameOS / ArchINSTALLBUILDCHECKBUILD BIN
MSstatsQCgui 1.9.1
Eralp Dogu
Snapshot Date: 2020-10-24 14:40:19 -0400 (Sat, 24 Oct 2020)
URL: https://git.bioconductor.org/packages/MSstatsQCgui
Branch: master
Last Commit: 8fd43a0
Last Changed Date: 2020-05-25 16:11:34 -0400 (Mon, 25 May 2020)
malbec1 Linux (Ubuntu 18.04.4 LTS) / x86_64  OK  OK  OK UNNEEDED, same version exists in internal repository
nebbiolo1 Linux (Ubuntu 20.04.1 LTS) / x86_64  OK  OK  OK 
tokay1 Windows Server 2012 R2 Standard / x64  OK  OK  OK  OK UNNEEDED, same version exists in internal repository
riesling1 Windows Server 2019 Standard / x64  OK  OK  OK  OK 
merida1 macOS 10.14.6 Mojave / x86_64  OK  OK  OK  OK UNNEEDED, same version exists in internal repository