Back to Multiple platform build/check report for BioC 3.12
A[B]CDEFGHIJKLMNOPQRSTUVWXYZ

INSTALL report for BatchQC on merida1

This page was generated on 2020-08-11 11:58:52 -0400 (Tue, 11 Aug 2020).

TO THE DEVELOPERS/MAINTAINERS OF THE BatchQC PACKAGE: Please make sure to use the following settings in order to reproduce any error or warning you see on this page.
Package 117/1885HostnameOS / ArchINSTALLBUILDCHECKBUILD BIN
BatchQC 1.17.2
Solaiappan Manimaran
Snapshot Date: 2020-08-10 14:50:56 -0400 (Mon, 10 Aug 2020)
URL: https://git.bioconductor.org/packages/BatchQC
Branch: master
Last Commit: b610f4a
Last Changed Date: 2020-07-13 01:42:07 -0400 (Mon, 13 Jul 2020)
malbec1 Linux (Ubuntu 18.04.4 LTS) / x86_64  OK  OK  OK UNNEEDED, same version exists in internal repository
nebbiolo1 Linux (Ubuntu 20.04.1 LTS) / x86_64  OK  OK  NA 
tokay1 Windows Server 2012 R2 Standard / x64  OK  OK  OK  OK UNNEEDED, same version exists in internal repository
merida1 macOS 10.14.6 Mojave / x86_64 [ OK ] OK  OK  OK UNNEEDED, same version exists in internal repository

Summary

Package: BatchQC
Version: 1.17.2
Command: /Library/Frameworks/R.framework/Versions/Current/Resources/bin/R CMD INSTALL BatchQC
StartedAt: 2020-08-10 17:27:04 -0400 (Mon, 10 Aug 2020)
EndedAt: 2020-08-10 17:27:49 -0400 (Mon, 10 Aug 2020)
EllapsedTime: 45.6 seconds
RetCode: 0
Status:  OK 

Command output

##############################################################################
##############################################################################
###
### Running command:
###
###   /Library/Frameworks/R.framework/Versions/Current/Resources/bin/R CMD INSTALL BatchQC
###
##############################################################################
##############################################################################


* installing to library ‘/Library/Frameworks/R.framework/Versions/4.0/Resources/library’
* installing *source* package ‘BatchQC’ ...
** using staged installation
** R
** data
** inst
** byte-compile and prepare package for lazy loading
** help
*** installing help indices
** building package indices
** installing vignettes
** testing if installed package can be loaded from temporary location
** testing if installed package can be loaded from final location
** testing if installed package keeps a record of temporary installation path
* DONE (BatchQC)