Back to Multiple platform build/check report for BioC 3.12
A[B]CDEFGHIJKLMNOPQRSTUVWXYZ

BUILD report for breakpointR on malbec1

This page was generated on 2020-08-11 11:25:19 -0400 (Tue, 11 Aug 2020).

TO THE DEVELOPERS/MAINTAINERS OF THE breakpointR PACKAGE: Please make sure to use the following settings in order to reproduce any error or warning you see on this page.
Package 196/1885HostnameOS / ArchINSTALLBUILDCHECKBUILD BIN
breakpointR 1.7.1
David Porubsky
Snapshot Date: 2020-08-10 14:50:56 -0400 (Mon, 10 Aug 2020)
URL: https://git.bioconductor.org/packages/breakpointR
Branch: master
Last Commit: 30030d4
Last Changed Date: 2020-06-03 19:12:11 -0400 (Wed, 03 Jun 2020)
malbec1 Linux (Ubuntu 18.04.4 LTS) / x86_64  OK [ OK ] OK UNNEEDED, same version exists in internal repository
nebbiolo1 Linux (Ubuntu 20.04.1 LTS) / x86_64  OK  OK  NA 
tokay1 Windows Server 2012 R2 Standard / x64  OK  OK  OK  OK UNNEEDED, same version exists in internal repository
merida1 macOS 10.14.6 Mojave / x86_64  OK  OK  OK  OK UNNEEDED, same version exists in internal repository

Summary

Package: breakpointR
Version: 1.7.1
Command: /home/biocbuild/bbs-3.12-bioc/R/bin/R CMD build --keep-empty-dirs --no-resave-data breakpointR
StartedAt: 2020-08-10 21:15:26 -0400 (Mon, 10 Aug 2020)
EndedAt: 2020-08-10 21:16:37 -0400 (Mon, 10 Aug 2020)
EllapsedTime: 71.6 seconds
RetCode: 0
Status:  OK 
PackageFile: breakpointR_1.7.1.tar.gz
PackageFileSize: 1.059 MiB

Command output

##############################################################################
##############################################################################
###
### Running command:
###
###   /home/biocbuild/bbs-3.12-bioc/R/bin/R CMD build --keep-empty-dirs --no-resave-data breakpointR
###
##############################################################################
##############################################################################


* checking for file ‘breakpointR/DESCRIPTION’ ... OK
* preparing ‘breakpointR’:
* checking DESCRIPTION meta-information ... OK
* installing the package to build vignettes
* creating vignettes ... OK
* checking for LF line-endings in source and make files and shell scripts
* checking for empty or unneeded directories
* building ‘breakpointR_1.7.1.tar.gz’