Back to Multiple platform build/check report for BioC 3.12
A[B]CDEFGHIJKLMNOPQRSTUVWXYZ

INSTALL report for BiocCaseStudies on malbec1

This page was generated on 2020-08-06 11:29:45 -0400 (Thu, 06 Aug 2020).

TO THE DEVELOPERS/MAINTAINERS OF THE BiocCaseStudies PACKAGE: Please make sure to use the following settings in order to reproduce any error or warning you see on this page.
Package 148/1882HostnameOS / ArchINSTALLBUILDCHECKBUILD BIN
BiocCaseStudies 1.51.0
Bioconductor Package Maintainer
Snapshot Date: 2020-08-05 14:50:59 -0400 (Wed, 05 Aug 2020)
URL: https://git.bioconductor.org/packages/BiocCaseStudies
Branch: master
Last Commit: 436d015
Last Changed Date: 2020-04-27 14:16:09 -0400 (Mon, 27 Apr 2020)
malbec1 Linux (Ubuntu 18.04.4 LTS) / x86_64 [ OK ] OK  OK UNNEEDED, same version exists in internal repository
tokay1 Windows Server 2012 R2 Standard / x64  OK  OK  OK  OK UNNEEDED, same version exists in internal repository
merida1 macOS 10.14.6 Mojave / x86_64  OK  OK  OK  OK UNNEEDED, same version exists in internal repository

Summary

Package: BiocCaseStudies
Version: 1.51.0
Command: /home/biocbuild/bbs-3.12-bioc/R/bin/R CMD INSTALL BiocCaseStudies
StartedAt: 2020-08-05 16:02:48 -0400 (Wed, 05 Aug 2020)
EndedAt: 2020-08-05 16:02:53 -0400 (Wed, 05 Aug 2020)
EllapsedTime: 4.4 seconds
RetCode: 0
Status:  OK 

Command output

##############################################################################
##############################################################################
###
### Running command:
###
###   /home/biocbuild/bbs-3.12-bioc/R/bin/R CMD INSTALL BiocCaseStudies
###
##############################################################################
##############################################################################


* installing to library ‘/home/biocbuild/bbs-3.12-bioc/R/library’
* installing *source* package ‘BiocCaseStudies’ ...
** using staged installation
** R
** byte-compile and prepare package for lazy loading
** help
*** installing help indices
** building package indices
** testing if installed package can be loaded from temporary location
** testing if installed package can be loaded from final location
** testing if installed package keeps a record of temporary installation path
* DONE (BiocCaseStudies)