Back to Multiple platform build/check report for BioC 3.12
A[B]CDEFGHIJKLMNOPQRSTUVWXYZ

BUILD report for biocViews on tokay1

This page was generated on 2020-08-10 12:10:50 -0400 (Mon, 10 Aug 2020).

TO THE DEVELOPERS/MAINTAINERS OF THE biocViews PACKAGE: Please make sure to use the following settings in order to reproduce any error or warning you see on this page.
Package 164/1882HostnameOS / ArchINSTALLBUILDCHECKBUILD BIN
biocViews 1.57.3
Bioconductor Package Maintainer
Snapshot Date: 2020-08-09 14:51:29 -0400 (Sun, 09 Aug 2020)
URL: https://git.bioconductor.org/packages/biocViews
Branch: master
Last Commit: d1f0be2
Last Changed Date: 2020-07-17 16:45:15 -0400 (Fri, 17 Jul 2020)
malbec1 Linux (Ubuntu 18.04.4 LTS) / x86_64  OK  OK  OK UNNEEDED, same version exists in internal repository
nebbiolo1 Linux (Ubuntu 20.04.1 LTS) / x86_64  OK  OK  OK 
tokay1 Windows Server 2012 R2 Standard / x64  OK [ OK ] OK  OK UNNEEDED, same version exists in internal repository
merida1 macOS 10.14.6 Mojave / x86_64  OK  OK  OK  OK UNNEEDED, same version exists in internal repository

Summary

Package: biocViews
Version: 1.57.3
Command: chmod a+r biocViews -R && C:\Users\biocbuild\bbs-3.12-bioc\R\bin\R.exe CMD build --keep-empty-dirs --no-resave-data biocViews
StartedAt: 2020-08-09 19:11:48 -0400 (Sun, 09 Aug 2020)
EndedAt: 2020-08-09 19:12:23 -0400 (Sun, 09 Aug 2020)
EllapsedTime: 34.9 seconds
RetCode: 0
Status:  OK  
PackageFile: biocViews_1.57.3.tar.gz
PackageFileSize: 283 KiB

Command output

##############################################################################
##############################################################################
###
### Running command:
###
###   chmod a+r biocViews -R && C:\Users\biocbuild\bbs-3.12-bioc\R\bin\R.exe CMD build --keep-empty-dirs --no-resave-data biocViews
###
##############################################################################
##############################################################################


* checking for file 'biocViews/DESCRIPTION' ... OK
* preparing 'biocViews':
* checking DESCRIPTION meta-information ... OK
* installing the package to build vignettes
* creating vignettes ... OK
* checking for LF line-endings in source and make files and shell scripts
* checking for empty or unneeded directories
* looking to see if a 'data/datalist' file should be added
* building 'biocViews_1.57.3.tar.gz'