Back to Multiple platform build/check report for BioC 3.12
[A]BCDEFGHIJKLMNOPQRSTUVWXYZ

BUILD BIN report for anota2seq on tokay1

This page was generated on 2020-08-14 11:04:22 -0400 (Fri, 14 Aug 2020).

TO THE DEVELOPERS/MAINTAINERS OF THE anota2seq PACKAGE: Please make sure to use the following settings in order to reproduce any error or warning you see on this page.
Package 67/1889HostnameOS / ArchINSTALLBUILDCHECKBUILD BIN
anota2seq 1.11.0
Christian Oertlin , Julie Lorent
Snapshot Date: 2020-08-13 14:54:37 -0400 (Thu, 13 Aug 2020)
URL: https://git.bioconductor.org/packages/anota2seq
Branch: master
Last Commit: 0e34b88
Last Changed Date: 2020-04-27 15:11:14 -0400 (Mon, 27 Apr 2020)
malbec1 Linux (Ubuntu 18.04.4 LTS) / x86_64  OK  OK  OK UNNEEDED, same version exists in internal repository
nebbiolo1 Linux (Ubuntu 20.04.1 LTS) / x86_64  OK  OK  OK 
tokay1 Windows Server 2012 R2 Standard / x64  OK  OK  OK [ OK ]UNNEEDED, same version exists in internal repository
merida1 macOS 10.14.6 Mojave / x86_64  OK  OK  OK  OK UNNEEDED, same version exists in internal repository

Summary

Package: anota2seq
Version: 1.11.0
Command: rm -rf anota2seq.buildbin-libdir && mkdir anota2seq.buildbin-libdir && C:\Users\biocbuild\bbs-3.12-bioc\R\bin\R.exe CMD INSTALL --merge-multiarch --build --library=anota2seq.buildbin-libdir anota2seq_1.11.0.tar.gz
StartedAt: 2020-08-14 08:22:46 -0400 (Fri, 14 Aug 2020)
EndedAt: 2020-08-14 08:23:31 -0400 (Fri, 14 Aug 2020)
EllapsedTime: 45.5 seconds
RetCode: 0
Status:  OK  
PackageFile: anota2seq_1.11.0.zip
PackageFileSize: 1.607 MiB

Command output

##############################################################################
##############################################################################
###
### Running command:
###
###   rm -rf anota2seq.buildbin-libdir && mkdir anota2seq.buildbin-libdir && C:\Users\biocbuild\bbs-3.12-bioc\R\bin\R.exe CMD INSTALL --merge-multiarch --build --library=anota2seq.buildbin-libdir anota2seq_1.11.0.tar.gz
###
##############################################################################
##############################################################################



install for i386

* installing *source* package 'anota2seq' ...
** using staged installation
** R
** data
*** moving datasets to lazyload DB
** inst
** byte-compile and prepare package for lazy loading
** help
*** installing help indices
  converting help for package 'anota2seq'
    finding HTML links ... done
    Anota2seqDataSet-class                  html  
    anota2seq-plots                         html  
    anota2seqAnalyze                        html  
    anota2seqDataSetFromMatrix              html  
    anota2seqGetContrasts                   html  
    anota2seqGetCovariates                  html  
    anota2seqGetDeltaData                   html  
    anota2seqGetNormalizedData              html  
    anota2seqGetOutput                      html  
    anota2seqGetQualityControl              html  
    anota2seqGetResidOutlierTest            html  
    anota2seqGetThresholds                  html  
    anota2seqPerformQC                      html  
    anota2seqRegModes                       html  
    anota2seqResidOutlierTest               html  
    anota2seqRun                            html  
    anota2seqSelSigGenes                    html  
    anota2seq_data                          html  
    show-Anota2seqDataSet-method            html  
** building package indices
** installing vignettes
** testing if installed package can be loaded from temporary location
** testing if installed package can be loaded from final location
** testing if installed package keeps a record of temporary installation path

install for x64

* installing *source* package 'anota2seq' ...
** testing if installed package can be loaded
* MD5 sums
packaged installation of 'anota2seq' as anota2seq_1.11.0.zip
* DONE (anota2seq)