Back to Multiple platform build/check report for BioC 3.12
A[B]CDEFGHIJKLMNOPQRSTUVWXYZ

INSTALL report for BrowserViz on malbec1

This page was generated on 2020-08-11 11:20:58 -0400 (Tue, 11 Aug 2020).

TO THE DEVELOPERS/MAINTAINERS OF THE BrowserViz PACKAGE: Please make sure to use the following settings in order to reproduce any error or warning you see on this page.
Package 201/1885HostnameOS / ArchINSTALLBUILDCHECKBUILD BIN
BrowserViz 2.11.0
Paul Shannon
Snapshot Date: 2020-08-10 14:50:56 -0400 (Mon, 10 Aug 2020)
URL: https://git.bioconductor.org/packages/BrowserViz
Branch: master
Last Commit: c965f73
Last Changed Date: 2020-04-27 14:47:02 -0400 (Mon, 27 Apr 2020)
malbec1 Linux (Ubuntu 18.04.4 LTS) / x86_64 [ OK ] OK  OK UNNEEDED, same version exists in internal repository
nebbiolo1 Linux (Ubuntu 20.04.1 LTS) / x86_64  OK  OK  NA 
tokay1 Windows Server 2012 R2 Standard / x64  OK  OK  OK  OK UNNEEDED, same version exists in internal repository
merida1 macOS 10.14.6 Mojave / x86_64  OK  OK  OK  OK UNNEEDED, same version exists in internal repository

Summary

Package: BrowserViz
Version: 2.11.0
Command: /home/biocbuild/bbs-3.12-bioc/R/bin/R CMD INSTALL BrowserViz
StartedAt: 2020-08-10 16:07:29 -0400 (Mon, 10 Aug 2020)
EndedAt: 2020-08-10 16:07:35 -0400 (Mon, 10 Aug 2020)
EllapsedTime: 5.8 seconds
RetCode: 0
Status:  OK 

Command output

##############################################################################
##############################################################################
###
### Running command:
###
###   /home/biocbuild/bbs-3.12-bioc/R/bin/R CMD INSTALL BrowserViz
###
##############################################################################
##############################################################################


* installing to library ‘/home/biocbuild/bbs-3.12-bioc/R/library’
* installing *source* package ‘BrowserViz’ ...
** using staged installation
** R
** inst
** byte-compile and prepare package for lazy loading
** help
*** installing help indices
** building package indices
** installing vignettes
** testing if installed package can be loaded from temporary location
** testing if installed package can be loaded from final location
** testing if installed package keeps a record of temporary installation path
* DONE (BrowserViz)