Back to Multiple platform build/check report for BioC 3.12
ABCDEFG[H]IJKLMNOPQRSTUVWXYZ

BUILD BIN report for hiAnnotator on merida1

This page was generated on 2020-11-23 12:25:35 -0500 (Mon, 23 Nov 2020).

TO THE DEVELOPERS/MAINTAINERS OF THE hiAnnotator PACKAGE: Please make sure to use the following settings in order to reproduce any error or warning you see on this page.
Package 827/1974HostnameOS / ArchINSTALLBUILDCHECKBUILD BIN
hiAnnotator 1.24.0
Nirav V Malani
Snapshot Date: 2020-11-22 14:42:09 -0500 (Sun, 22 Nov 2020)
URL: https://git.bioconductor.org/packages/hiAnnotator
Branch: RELEASE_3_12
Last Commit: ab43fdd
Last Changed Date: 2020-10-27 10:56:46 -0500 (Tue, 27 Oct 2020)
malbec1 Linux (Ubuntu 18.04.4 LTS) / x86_64  OK  OK  OK UNNEEDED, same version exists in internal repository
nebbiolo1 Linux (Ubuntu 20.04.1 LTS) / x86_64  OK  OK  OK 
tokay1 Windows Server 2012 R2 Standard / x64  OK  OK  WARNINGS  OK UNNEEDED, same version exists in internal repository
merida1 macOS 10.14.6 Mojave / x86_64  OK  OK  OK [ OK ]UNNEEDED, same version exists in internal repository

Summary

Package: hiAnnotator
Version: 1.24.0
Command: rm -rf hiAnnotator.buildbin-libdir && mkdir hiAnnotator.buildbin-libdir && /Users/biocbuild/BBS/utils/build-universal.sh hiAnnotator_1.24.0.tar.gz /Library/Frameworks/R.framework/Versions/Current/Resources/bin/R hiAnnotator.buildbin-libdir
StartedAt: 2020-11-23 08:40:15 -0500 (Mon, 23 Nov 2020)
EndedAt: 2020-11-23 08:41:29 -0500 (Mon, 23 Nov 2020)
EllapsedTime: 73.6 seconds
RetCode: 0
Status:  OK 
PackageFile: hiAnnotator_1.24.0.tgz
PackageFileSize: 757.5 KiB

Command output

##############################################################################
##############################################################################
###
### Running command:
###
###   rm -rf hiAnnotator.buildbin-libdir && mkdir hiAnnotator.buildbin-libdir && /Users/biocbuild/BBS/utils/build-universal.sh hiAnnotator_1.24.0.tar.gz /Library/Frameworks/R.framework/Versions/Current/Resources/bin/R hiAnnotator.buildbin-libdir
###
##############################################################################
##############################################################################


>>>>>>> 
>>>>>>> INSTALLATION WITH 'R CMD INSTALL --preclean --no-multiarch --library=hiAnnotator.buildbin-libdir hiAnnotator_1.24.0.tar.gz'
>>>>>>> 

* installing *source* package ‘hiAnnotator’ ...
** using staged installation
** R
** data
** inst
** byte-compile and prepare package for lazy loading
** help
*** installing help indices
** building package indices
** installing vignettes
** testing if installed package can be loaded from temporary location
** testing if installed package can be loaded from final location
** testing if installed package keeps a record of temporary installation path
* DONE (hiAnnotator)