Back to Multiple platform build/check report for BioC 3.12 |
|
This page was generated on 2021-05-06 12:31:07 -0400 (Thu, 06 May 2021).
To the developers/maintainers of the fcScan package: Please make sure to use the following settings in order to reproduce any error or warning you see on this page. |
Package 597/1974 | Hostname | OS / Arch | INSTALL | BUILD | CHECK | BUILD BIN | ||||||||
fcScan 1.4.0 (landing page) Pierre Khoueiry
| malbec1 | Linux (Ubuntu 18.04.5 LTS) / x86_64 | OK | OK | OK | |||||||||
tokay1 | Windows Server 2012 R2 Standard / x64 | OK | OK | OK | OK | |||||||||
merida1 | macOS 10.14.6 Mojave / x86_64 | OK | OK | OK | OK | |||||||||
Package: fcScan |
Version: 1.4.0 |
Command: rm -rf fcScan.buildbin-libdir && mkdir fcScan.buildbin-libdir && C:\Users\biocbuild\bbs-3.12-bioc\R\bin\R.exe CMD INSTALL --merge-multiarch --build --library=fcScan.buildbin-libdir fcScan_1.4.0.tar.gz |
StartedAt: 2021-05-06 09:03:37 -0400 (Thu, 06 May 2021) |
EndedAt: 2021-05-06 09:05:10 -0400 (Thu, 06 May 2021) |
EllapsedTime: 92.8 seconds |
RetCode: 0 |
Status: OK |
PackageFile: fcScan_1.4.0.zip |
PackageFileSize: 264.9 KiB |
############################################################################## ############################################################################## ### ### Running command: ### ### rm -rf fcScan.buildbin-libdir && mkdir fcScan.buildbin-libdir && C:\Users\biocbuild\bbs-3.12-bioc\R\bin\R.exe CMD INSTALL --merge-multiarch --build --library=fcScan.buildbin-libdir fcScan_1.4.0.tar.gz ### ############################################################################## ############################################################################## install for i386 * installing *source* package 'fcScan' ... ** using staged installation ** R ** inst ** byte-compile and prepare package for lazy loading ** help *** installing help indices converting help for package 'fcScan' finding HTML links ... done getCluster html ** building package indices ** installing vignettes ** testing if installed package can be loaded from temporary location ** testing if installed package can be loaded from final location ** testing if installed package keeps a record of temporary installation path install for x64 * installing *source* package 'fcScan' ... ** testing if installed package can be loaded * MD5 sums packaged installation of 'fcScan' as fcScan_1.4.0.zip * DONE (fcScan)