Back to Multiple platform build/check report for BioC 3.12 |
|
This page was generated on 2021-05-06 12:32:23 -0400 (Thu, 06 May 2021).
To the developers/maintainers of the multiClust package: Please make sure to use the following settings in order to reproduce any error or warning you see on this page. |
Package 1176/1974 | Hostname | OS / Arch | INSTALL | BUILD | CHECK | BUILD BIN | ||||||||
multiClust 1.20.0 (landing page) Nathan Lawlor
| malbec1 | Linux (Ubuntu 18.04.5 LTS) / x86_64 | OK | OK | OK | |||||||||
tokay1 | Windows Server 2012 R2 Standard / x64 | OK | OK | OK | OK | |||||||||
merida1 | macOS 10.14.6 Mojave / x86_64 | OK | OK | OK | OK | |||||||||
Package: multiClust |
Version: 1.20.0 |
Command: C:\cygwin\bin\curl.exe -O http://172.29.0.3/BBS/3.12/bioc/src/contrib/multiClust_1.20.0.tar.gz && rm -rf multiClust.buildbin-libdir && mkdir multiClust.buildbin-libdir && C:\Users\biocbuild\bbs-3.12-bioc\R\bin\R.exe CMD INSTALL --merge-multiarch --build --library=multiClust.buildbin-libdir multiClust_1.20.0.tar.gz && C:\Users\biocbuild\bbs-3.12-bioc\R\bin\R.exe CMD INSTALL multiClust_1.20.0.zip && rm multiClust_1.20.0.tar.gz multiClust_1.20.0.zip |
StartedAt: 2021-05-05 17:33:11 -0400 (Wed, 05 May 2021) |
EndedAt: 2021-05-05 17:34:10 -0400 (Wed, 05 May 2021) |
EllapsedTime: 58.6 seconds |
RetCode: 0 |
Status: OK |
############################################################################## ############################################################################## ### ### Running command: ### ### C:\cygwin\bin\curl.exe -O http://172.29.0.3/BBS/3.12/bioc/src/contrib/multiClust_1.20.0.tar.gz && rm -rf multiClust.buildbin-libdir && mkdir multiClust.buildbin-libdir && C:\Users\biocbuild\bbs-3.12-bioc\R\bin\R.exe CMD INSTALL --merge-multiarch --build --library=multiClust.buildbin-libdir multiClust_1.20.0.tar.gz && C:\Users\biocbuild\bbs-3.12-bioc\R\bin\R.exe CMD INSTALL multiClust_1.20.0.zip && rm multiClust_1.20.0.tar.gz multiClust_1.20.0.zip ### ############################################################################## ############################################################################## % Total % Received % Xferd Average Speed Time Time Time Current Dload Upload Total Spent Left Speed 0 0 0 0 0 0 0 0 --:--:-- --:--:-- --:--:-- 0 12 1975k 12 253k 0 0 1036k 0 0:00:01 --:--:-- 0:00:01 1039k 100 1975k 100 1975k 0 0 5208k 0 --:--:-- --:--:-- --:--:-- 5212k install for i386 * installing *source* package 'multiClust' ... ** using staged installation ** R ** inst ** byte-compile and prepare package for lazy loading ** help *** installing help indices converting help for package 'multiClust' finding HTML links ... done WriteMatrixToFile html avg_probe_exp html cluster_analysis html input_file html nor.min.max html number_clusters html number_probes html probe_ranking html surv_analysis html ** building package indices ** installing vignettes ** testing if installed package can be loaded from temporary location ** testing if installed package can be loaded from final location ** testing if installed package keeps a record of temporary installation path install for x64 * installing *source* package 'multiClust' ... ** testing if installed package can be loaded * MD5 sums packaged installation of 'multiClust' as multiClust_1.20.0.zip * DONE (multiClust) * installing to library 'C:/Users/biocbuild/bbs-3.12-bioc/R/library' package 'multiClust' successfully unpacked and MD5 sums checked