Back to Multiple platform build/check report for BioC 3.12
AB[C]DEFGHIJKLMNOPQRSTUVWXYZ

CHECK report for CAGEfightR on merida1

This page was generated on 2020-08-14 11:21:19 -0400 (Fri, 14 Aug 2020).

TO THE DEVELOPERS/MAINTAINERS OF THE CAGEfightR PACKAGE: Please make sure to use the following settings in order to reproduce any error or warning you see on this page.
Package 213/1889HostnameOS / ArchINSTALLBUILDCHECKBUILD BIN
CAGEfightR 1.9.0
Malte Thodberg
Snapshot Date: 2020-08-13 14:54:37 -0400 (Thu, 13 Aug 2020)
URL: https://git.bioconductor.org/packages/CAGEfightR
Branch: master
Last Commit: 4bec7db
Last Changed Date: 2020-04-27 15:16:40 -0400 (Mon, 27 Apr 2020)
malbec1 Linux (Ubuntu 18.04.4 LTS) / x86_64  OK  OK  OK UNNEEDED, same version exists in internal repository
nebbiolo1 Linux (Ubuntu 20.04.1 LTS) / x86_64  OK  OK  OK 
tokay1 Windows Server 2012 R2 Standard / x64  OK  OK  OK  OK UNNEEDED, same version exists in internal repository
merida1 macOS 10.14.6 Mojave / x86_64  OK  OK [ OK ] OK UNNEEDED, same version exists in internal repository

Summary

Package: CAGEfightR
Version: 1.9.0
Command: /Library/Frameworks/R.framework/Versions/Current/Resources/bin/R CMD check --install=check:CAGEfightR.install-out.txt --library=/Library/Frameworks/R.framework/Versions/Current/Resources/library --no-vignettes --timings CAGEfightR_1.9.0.tar.gz
StartedAt: 2020-08-14 03:40:51 -0400 (Fri, 14 Aug 2020)
EndedAt: 2020-08-14 03:48:30 -0400 (Fri, 14 Aug 2020)
EllapsedTime: 458.8 seconds
RetCode: 0
Status:  OK 
CheckDir: CAGEfightR.Rcheck
Warnings: 0

Command output

##############################################################################
##############################################################################
###
### Running command:
###
###   /Library/Frameworks/R.framework/Versions/Current/Resources/bin/R CMD check --install=check:CAGEfightR.install-out.txt --library=/Library/Frameworks/R.framework/Versions/Current/Resources/library --no-vignettes --timings CAGEfightR_1.9.0.tar.gz
###
##############################################################################
##############################################################################


* using log directory ‘/Users/biocbuild/bbs-3.12-bioc/meat/CAGEfightR.Rcheck’
* using R version 4.0.2 (2020-06-22)
* using platform: x86_64-apple-darwin17.0 (64-bit)
* using session charset: UTF-8
* using option ‘--no-vignettes’
* checking for file ‘CAGEfightR/DESCRIPTION’ ... OK
* checking extension type ... Package
* this is package ‘CAGEfightR’ version ‘1.9.0’
* package encoding: UTF-8
* checking package namespace information ... OK
* checking package dependencies ... OK
* checking if this is a source package ... OK
* checking if there is a namespace ... OK
* checking for hidden files and directories ... OK
* checking for portable file names ... OK
* checking for sufficient/correct file permissions ... OK
* checking whether package ‘CAGEfightR’ can be installed ... OK
* checking installed package size ... OK
* checking package directory ... OK
* checking ‘build’ directory ... OK
* checking DESCRIPTION meta-information ... OK
* checking top-level files ... OK
* checking for left-over files ... OK
* checking index information ... OK
* checking package subdirectories ... OK
* checking R files for non-ASCII characters ... OK
* checking R files for syntax errors ... OK
* checking whether the package can be loaded ... OK
* checking whether the package can be loaded with stated dependencies ... OK
* checking whether the package can be unloaded cleanly ... OK
* checking whether the namespace can be loaded with stated dependencies ... OK
* checking whether the namespace can be unloaded cleanly ... OK
* checking dependencies in R code ... OK
* checking S3 generic/method consistency ... OK
* checking replacement functions ... OK
* checking foreign function calls ... OK
* checking R code for possible problems ... OK
* checking Rd files ... OK
* checking Rd metadata ... OK
* checking Rd cross-references ... OK
* checking for missing documentation entries ... OK
* checking for code/documentation mismatches ... OK
* checking Rd \usage sections ... OK
* checking Rd contents ... OK
* checking for unstated dependencies in examples ... OK
* checking contents of ‘data’ directory ... OK
* checking data for non-ASCII characters ... OK
* checking data for ASCII and uncompressed saves ... OK
* checking files in ‘vignettes’ ... OK
* checking examples ... OK
Examples with CPU (user + system) or elapsed time > 5s
              user system elapsed
findLinks    4.779  0.607   4.900
assignGeneID 5.170  0.122   5.316
* checking for unstated dependencies in vignettes ... OK
* checking package vignettes in ‘inst/doc’ ... OK
* checking running R code from vignettes ... SKIPPED
* checking re-building of vignette outputs ... SKIPPED
* checking PDF version of manual ... OK
* DONE

Status: OK


Installation output

CAGEfightR.Rcheck/00install.out

##############################################################################
##############################################################################
###
### Running command:
###
###   /Library/Frameworks/R.framework/Versions/Current/Resources/bin/R CMD INSTALL CAGEfightR
###
##############################################################################
##############################################################################


* installing to library ‘/Library/Frameworks/R.framework/Versions/4.0/Resources/library’
* installing *source* package ‘CAGEfightR’ ...
** using staged installation
** R
** data
*** moving datasets to lazyload DB
** inst
** byte-compile and prepare package for lazy loading
** help
*** installing help indices
** building package indices
** installing vignettes
** testing if installed package can be loaded from temporary location
** testing if installed package can be loaded from final location
** testing if installed package keeps a record of temporary installation path
* DONE (CAGEfightR)

Tests output


Example timings

CAGEfightR.Rcheck/CAGEfightR-Ex.timings

nameusersystemelapsed
assignGeneID5.1700.1225.316
assignMissingID1.6490.0331.683
assignTxID1.4670.0231.491
assignTxType0.0000.0010.001
balanceBC0.0010.0000.001
balanceD0.0010.0000.001
bwCommonGenome0.0580.0060.066
bwGenomeCompatibility0.0260.0030.030
bwValid0.0110.0030.014
calcBidirectionality0.7640.0140.778
calcComposition3.1220.0483.174
calcPooled0.1990.0030.202
calcShape4.4940.0954.593
calcSupport0.2090.0040.213
calcTPM0.2420.0040.246
calcTotalTags0.1230.0050.128
checkCTSSs0.4350.0120.450
checkPeaked0.0900.0030.093
checkPooled0.0810.0040.086
clusterBidirectionally0.0000.0000.001
clusterUnidirectionally2.3510.0442.397
combineClusters1.1420.0151.158
convertBAM2BigWig000
convertBED2BigWig0.0000.0010.001
convertGRanges2GPos0.1130.0010.114
exampleDesign0.0080.0130.021
findLinks4.7790.6074.900
findStretches0.6750.0910.765
quantifyCTSSs0.0010.0020.002
quantifyCTSSs20.0000.0010.001
quantifyClusters0.7190.0860.806
quantifyGenes3.1000.2893.445
quickEnhancers0.0010.0000.000
quickGenes0.0010.0000.001
quickTSSs000
shapeEntropy0.0010.0000.001
shapeIQR0.0010.0000.001
shapeMean0.0010.0000.001
shapeMultimodality000
subsetByBidirectionality0.6760.0230.701
subsetByComposition1.9470.0261.975
subsetBySupport0.1260.0020.129
swapRanges0.3410.0120.353
swapScores0.2260.0030.230
trackBalance0.0010.0000.001
trackCTSS4.0220.0424.071
trackClusters2.6900.0402.733
trackLinks1.4580.2641.566
trimToPeak1.4800.1561.638
trimToPercentiles3.5970.0653.667
tuneTagClustering0.0000.0000.001
utilsAggregateRows0.7880.6491.479
utilsDeStrand0.2020.0040.207
utilsScoreOverlaps0.1050.0010.106
utilsSimplifyTxDb0.0010.0000.001