Back to Multiple platform build/check report for BioC 3.12
A[B]CDEFGHIJKLMNOPQRSTUVWXYZ

BUILD BIN report for BiocDockerManager on tokay1

This page was generated on 2020-08-06 12:11:30 -0400 (Thu, 06 Aug 2020).

TO THE DEVELOPERS/MAINTAINERS OF THE BiocDockerManager PACKAGE: Please make sure to use the following settings in order to reproduce any error or warning you see on this page.
Package 150/1882HostnameOS / ArchINSTALLBUILDCHECKBUILD BIN
BiocDockerManager 1.1.2
Maintainer
Snapshot Date: 2020-08-05 14:50:59 -0400 (Wed, 05 Aug 2020)
URL: https://git.bioconductor.org/packages/BiocDockerManager
Branch: master
Last Commit: c1c99f1
Last Changed Date: 2020-07-01 11:30:36 -0400 (Wed, 01 Jul 2020)
malbec1 Linux (Ubuntu 18.04.4 LTS) / x86_64  OK  OK  OK UNNEEDED, same version exists in internal repository
tokay1 Windows Server 2012 R2 Standard / x64  OK  OK  OK [ OK ]UNNEEDED, same version exists in internal repository
merida1 macOS 10.14.6 Mojave / x86_64  OK  OK  OK  OK UNNEEDED, same version exists in internal repository

Summary

Package: BiocDockerManager
Version: 1.1.2
Command: rm -rf BiocDockerManager.buildbin-libdir && mkdir BiocDockerManager.buildbin-libdir && C:\Users\biocbuild\bbs-3.12-bioc\R\bin\R.exe CMD INSTALL --merge-multiarch --build --library=BiocDockerManager.buildbin-libdir BiocDockerManager_1.1.2.tar.gz
StartedAt: 2020-08-06 08:49:29 -0400 (Thu, 06 Aug 2020)
EndedAt: 2020-08-06 08:49:50 -0400 (Thu, 06 Aug 2020)
EllapsedTime: 21.0 seconds
RetCode: 0
Status:  OK  
PackageFile: BiocDockerManager_1.1.2.zip
PackageFileSize: 275.1 KiB

Command output

##############################################################################
##############################################################################
###
### Running command:
###
###   rm -rf BiocDockerManager.buildbin-libdir && mkdir BiocDockerManager.buildbin-libdir && C:\Users\biocbuild\bbs-3.12-bioc\R\bin\R.exe CMD INSTALL --merge-multiarch --build --library=BiocDockerManager.buildbin-libdir BiocDockerManager_1.1.2.tar.gz
###
##############################################################################
##############################################################################



install for i386

* installing *source* package 'BiocDockerManager' ...
** using staged installation
** R
** inst
** byte-compile and prepare package for lazy loading
** help
*** installing help indices
  converting help for package 'BiocDockerManager'
    finding HTML links ... done
    BiocDockerManager                       html  
    available                               html  
    help                                    html  
    install                                 html  
    installed                               html  
    maintainer                              html  
    use_dockerfile                          html  
    valid                                   html  
    version                                 html  
** building package indices
** installing vignettes
** testing if installed package can be loaded from temporary location
** testing if installed package can be loaded from final location
** testing if installed package keeps a record of temporary installation path

install for x64

* installing *source* package 'BiocDockerManager' ...
** testing if installed package can be loaded
* MD5 sums
packaged installation of 'BiocDockerManager' as BiocDockerManager_1.1.2.zip
* DONE (BiocDockerManager)