Back to Multiple platform build/check report for BioC 3.12
[A]BCDEFGHIJKLMNOPQRSTUVWXYZ

BUILD report for animalcules on malbec1

This page was generated on 2020-08-07 11:45:15 -0400 (Fri, 07 Aug 2020).

TO THE DEVELOPERS/MAINTAINERS OF THE animalcules PACKAGE: Please make sure to use the following settings in order to reproduce any error or warning you see on this page.
Package 54/1882HostnameOS / ArchINSTALLBUILDCHECKBUILD BIN
animalcules 1.5.1
Yue Zhao
Snapshot Date: 2020-08-06 14:50:46 -0400 (Thu, 06 Aug 2020)
URL: https://git.bioconductor.org/packages/animalcules
Branch: master
Last Commit: 36c4fb6
Last Changed Date: 2020-06-18 11:25:25 -0400 (Thu, 18 Jun 2020)
malbec1 Linux (Ubuntu 18.04.4 LTS) / x86_64  OK [ OK ] OK UNNEEDED, same version exists in internal repository
tokay1 Windows Server 2012 R2 Standard / x64  OK  OK  OK  OK UNNEEDED, same version exists in internal repository
merida1 macOS 10.14.6 Mojave / x86_64  OK  OK  OK  OK UNNEEDED, same version exists in internal repository

Summary

Package: animalcules
Version: 1.5.1
Command: /home/biocbuild/bbs-3.12-bioc/R/bin/R CMD build --keep-empty-dirs --no-resave-data animalcules
StartedAt: 2020-08-06 21:29:34 -0400 (Thu, 06 Aug 2020)
EndedAt: 2020-08-06 21:31:04 -0400 (Thu, 06 Aug 2020)
EllapsedTime: 89.8 seconds
RetCode: 0
Status:  OK 
PackageFile: animalcules_1.5.1.tar.gz
PackageFileSize: 3.118 MiB

Command output

##############################################################################
##############################################################################
###
### Running command:
###
###   /home/biocbuild/bbs-3.12-bioc/R/bin/R CMD build --keep-empty-dirs --no-resave-data animalcules
###
##############################################################################
##############################################################################


* checking for file ‘animalcules/DESCRIPTION’ ... OK
* preparing ‘animalcules’:
* checking DESCRIPTION meta-information ... OK
* installing the package to build vignettes
* creating vignettes ... OK
* checking for LF line-endings in source and make files and shell scripts
* checking for empty or unneeded directories
* building ‘animalcules_1.5.1.tar.gz’