Back to Multiple platform build/check report for BioC 3.12
ABCDEFGHIJKLMNOPQ[R]STUVWXYZ

Multiple platform build/check report for BioC 3.12

Results for Repitools

This page was generated on 2020-07-13 12:43:26 -0400 (Mon, 13 Jul 2020).

Package 1434/1876HostnameOS / ArchINSTALLBUILDCHECKBUILD BIN
Repitools 1.35.0
Mark Robinson
Snapshot Date: 2020-07-12 15:51:42 -0400 (Sun, 12 Jul 2020)
URL: https://git.bioconductor.org/packages/Repitools
Branch: master
Last Commit: d09a395
Last Changed Date: 2020-04-27 14:26:02 -0400 (Mon, 27 Apr 2020)
malbec1 Linux (Ubuntu 18.04.4 LTS) / x86_64  OK  OK  OK UNNEEDED, same version exists in internal repository
tokay1 Windows Server 2012 R2 Standard / x64  OK  OK  WARNINGS  OK UNNEEDED, same version exists in internal repository
merida1 macOS 10.14.6 Mojave / x86_64  OK  OK  OK  OK UNNEEDED, same version exists in internal repository