Back to Multiple platform build/check report for BioC 3.12
[A]BCDEFGHIJKLMNOPQRSTUVWXYZ

BUILD BIN report for ABSSeq on merida1

This page was generated on 2020-08-12 11:56:46 -0400 (Wed, 12 Aug 2020).

TO THE DEVELOPERS/MAINTAINERS OF THE ABSSeq PACKAGE: Please make sure to use the following settings in order to reproduce any error or warning you see on this page.
Package 10/1885HostnameOS / ArchINSTALLBUILDCHECKBUILD BIN
ABSSeq 1.43.0
Wentao Yang
Snapshot Date: 2020-08-11 14:50:16 -0400 (Tue, 11 Aug 2020)
URL: https://git.bioconductor.org/packages/ABSSeq
Branch: master
Last Commit: 2181a4f
Last Changed Date: 2020-04-27 14:39:30 -0400 (Mon, 27 Apr 2020)
malbec1 Linux (Ubuntu 18.04.4 LTS) / x86_64  OK  OK  OK UNNEEDED, same version exists in internal repository
nebbiolo1 Linux (Ubuntu 20.04.1 LTS) / x86_64  OK  OK  OK 
tokay1 Windows Server 2012 R2 Standard / x64  OK  OK  OK  OK UNNEEDED, same version exists in internal repository
merida1 macOS 10.14.6 Mojave / x86_64  OK  OK  OK [ OK ]UNNEEDED, same version exists in internal repository

Summary

Package: ABSSeq
Version: 1.43.0
Command: rm -rf ABSSeq.buildbin-libdir && mkdir ABSSeq.buildbin-libdir && /Users/biocbuild/BBS/utils/build-universal.sh ABSSeq_1.43.0.tar.gz /Library/Frameworks/R.framework/Versions/Current/Resources/bin/R ABSSeq.buildbin-libdir
StartedAt: 2020-08-12 07:02:50 -0400 (Wed, 12 Aug 2020)
EndedAt: 2020-08-12 07:03:54 -0400 (Wed, 12 Aug 2020)
EllapsedTime: 63.7 seconds
RetCode: 0
Status:  OK 
PackageFile: ABSSeq_1.43.0.tgz
PackageFileSize: 1.258 MiB

Command output

##############################################################################
##############################################################################
###
### Running command:
###
###   rm -rf ABSSeq.buildbin-libdir && mkdir ABSSeq.buildbin-libdir && /Users/biocbuild/BBS/utils/build-universal.sh ABSSeq_1.43.0.tar.gz /Library/Frameworks/R.framework/Versions/Current/Resources/bin/R ABSSeq.buildbin-libdir
###
##############################################################################
##############################################################################


>>>>>>> 
>>>>>>> INSTALLATION WITH 'R CMD INSTALL --preclean --no-multiarch --library=ABSSeq.buildbin-libdir ABSSeq_1.43.0.tar.gz'
>>>>>>> 

* installing *source* package ‘ABSSeq’ ...
** using staged installation
** R
** data
** inst
** byte-compile and prepare package for lazy loading
** help
*** installing help indices
** building package indices
** installing vignettes
** testing if installed package can be loaded from temporary location
** testing if installed package can be loaded from final location
** testing if installed package keeps a record of temporary installation path
* DONE (ABSSeq)