Back to Multiple platform build/check report for BioC 3.12
A[B]CDEFGHIJKLMNOPQRSTUVWXYZ

BUILD report for brendaDb on merida1

This page was generated on 2020-08-06 12:28:47 -0400 (Thu, 06 Aug 2020).

TO THE DEVELOPERS/MAINTAINERS OF THE brendaDb PACKAGE: Please make sure to use the following settings in order to reproduce any error or warning you see on this page.
Package 197/1882HostnameOS / ArchINSTALLBUILDCHECKBUILD BIN
brendaDb 1.3.0
Yi Zhou
Snapshot Date: 2020-08-05 14:50:59 -0400 (Wed, 05 Aug 2020)
URL: https://git.bioconductor.org/packages/brendaDb
Branch: master
Last Commit: b348776
Last Changed Date: 2020-04-27 15:29:29 -0400 (Mon, 27 Apr 2020)
malbec1 Linux (Ubuntu 18.04.4 LTS) / x86_64  OK  OK  OK UNNEEDED, same version exists in internal repository
tokay1 Windows Server 2012 R2 Standard / x64  OK  OK  OK  OK UNNEEDED, same version exists in internal repository
merida1 macOS 10.14.6 Mojave / x86_64  OK [ OK ] OK  OK UNNEEDED, same version exists in internal repository

Summary

Package: brendaDb
Version: 1.3.0
Command: /Library/Frameworks/R.framework/Versions/Current/Resources/bin/R CMD build --keep-empty-dirs --no-resave-data brendaDb
StartedAt: 2020-08-05 21:33:48 -0400 (Wed, 05 Aug 2020)
EndedAt: 2020-08-05 21:34:35 -0400 (Wed, 05 Aug 2020)
EllapsedTime: 47.0 seconds
RetCode: 0
Status:  OK 
PackageFile: brendaDb_1.3.0.tar.gz
PackageFileSize: 642.8 KiB

Command output

##############################################################################
##############################################################################
###
### Running command:
###
###   /Library/Frameworks/R.framework/Versions/Current/Resources/bin/R CMD build --keep-empty-dirs --no-resave-data brendaDb
###
##############################################################################
##############################################################################


* checking for file ‘brendaDb/DESCRIPTION’ ... OK
* preparing ‘brendaDb’:
* checking DESCRIPTION meta-information ... OK
* cleaning src
* installing the package to build vignettes
* creating vignettes ... OK
* cleaning src
* checking for LF line-endings in source and make files and shell scripts
* checking for empty or unneeded directories
* looking to see if a ‘data/datalist’ file should be added
* building ‘brendaDb_1.3.0.tar.gz’