Back to Multiple platform build/check report for BioC 3.12
[A]BCDEFGHIJKLMNOPQRSTUVWXYZ

BUILD report for AssessORF on tokay1

This page was generated on 2021-01-22 11:54:52 -0500 (Fri, 22 Jan 2021).

TO THE DEVELOPERS/MAINTAINERS OF THE AssessORF PACKAGE: Please make sure to use the following settings in order to reproduce any error or warning you see on this page.
Package 96/1974HostnameOS / ArchINSTALLBUILDCHECKBUILD BIN
AssessORF 1.8.0
Deepank Korandla
Snapshot Date: 2021-01-21 14:42:12 -0500 (Thu, 21 Jan 2021)
URL: https://git.bioconductor.org/packages/AssessORF
Branch: RELEASE_3_12
Last Commit: 3cb4cb1
Last Changed Date: 2020-10-27 11:40:18 -0500 (Tue, 27 Oct 2020)
malbec1 Linux (Ubuntu 18.04.5 LTS) / x86_64  OK  OK  OK UNNEEDED, same version exists in internal repository
nebbiolo1 Linux (Ubuntu 20.04.1 LTS) / x86_64  OK  OK  OK 
tokay1 Windows Server 2012 R2 Standard / x64  OK [ OK ] OK  OK UNNEEDED, same version exists in internal repository
merida1 macOS 10.14.6 Mojave / x86_64  OK  OK  OK  OK UNNEEDED, same version exists in internal repository

Summary

Package: AssessORF
Version: 1.8.0
Command: chmod a+r AssessORF -R && C:\Users\biocbuild\bbs-3.12-bioc\R\bin\R.exe CMD build --keep-empty-dirs --no-resave-data AssessORF
StartedAt: 2021-01-21 19:36:19 -0500 (Thu, 21 Jan 2021)
EndedAt: 2021-01-21 19:37:13 -0500 (Thu, 21 Jan 2021)
EllapsedTime: 53.3 seconds
RetCode: 0
Status:  OK  
PackageFile: AssessORF_1.8.0.tar.gz
PackageFileSize: 4.631 MiB

Command output

##############################################################################
##############################################################################
###
### Running command:
###
###   chmod a+r AssessORF -R && C:\Users\biocbuild\bbs-3.12-bioc\R\bin\R.exe CMD build --keep-empty-dirs --no-resave-data AssessORF
###
##############################################################################
##############################################################################


* checking for file 'AssessORF/DESCRIPTION' ... OK
* preparing 'AssessORF':
* checking DESCRIPTION meta-information ... OK
* installing the package to build vignettes
* creating vignettes ... OK
* checking for LF line-endings in source and make files and shell scripts
* checking for empty or unneeded directories
* building 'AssessORF_1.8.0.tar.gz'