Back to Multiple platform build/check report for BioC 3.12
[A]BCDEFGHIJKLMNOPQRSTUVWXYZ

BUILD report for ASAFE on malbec1

This page was generated on 2020-08-09 11:26:28 -0400 (Sun, 09 Aug 2020).

TO THE DEVELOPERS/MAINTAINERS OF THE ASAFE PACKAGE: Please make sure to use the following settings in order to reproduce any error or warning you see on this page.
Package 84/1882HostnameOS / ArchINSTALLBUILDCHECKBUILD BIN
ASAFE 1.15.0
Qian Zhang
Snapshot Date: 2020-08-08 14:51:01 -0400 (Sat, 08 Aug 2020)
URL: https://git.bioconductor.org/packages/ASAFE
Branch: master
Last Commit: e0273ce
Last Changed Date: 2020-04-27 14:59:36 -0400 (Mon, 27 Apr 2020)
malbec1 Linux (Ubuntu 18.04.4 LTS) / x86_64  OK [ OK ] OK UNNEEDED, same version exists in internal repository
nebbiolo1 Linux (Ubuntu 20.04.1 LTS) / x86_64  OK  OK  OK 
tokay1 Windows Server 2012 R2 Standard / x64  OK  OK  OK  OK UNNEEDED, same version exists in internal repository
merida1 macOS 10.14.6 Mojave / x86_64  OK  OK  OK  OK UNNEEDED, same version exists in internal repository

Summary

Package: ASAFE
Version: 1.15.0
Command: /home/biocbuild/bbs-3.12-bioc/R/bin/R CMD build --keep-empty-dirs --no-resave-data ASAFE
StartedAt: 2020-08-08 20:04:52 -0400 (Sat, 08 Aug 2020)
EndedAt: 2020-08-08 20:04:57 -0400 (Sat, 08 Aug 2020)
EllapsedTime: 5.5 seconds
RetCode: 0
Status:  OK 
PackageFile: ASAFE_1.15.0.tar.gz
PackageFileSize: 417.2 KiB

Command output

##############################################################################
##############################################################################
###
### Running command:
###
###   /home/biocbuild/bbs-3.12-bioc/R/bin/R CMD build --keep-empty-dirs --no-resave-data ASAFE
###
##############################################################################
##############################################################################


* checking for file ‘ASAFE/DESCRIPTION’ ... OK
* preparing ‘ASAFE’:
* checking DESCRIPTION meta-information ... OK
* installing the package to build vignettes
* creating vignettes ... OK
* checking for LF line-endings in source and make files and shell scripts
* checking for empty or unneeded directories
* building ‘ASAFE_1.15.0.tar.gz’