Back to Multiple platform build/check report for BioC 3.12
[A]BCDEFGHIJKLMNOPQRSTUVWXYZ

BUILD report for affyILM on merida1

This page was generated on 2020-08-10 12:32:02 -0400 (Mon, 10 Aug 2020).

TO THE DEVELOPERS/MAINTAINERS OF THE affyILM PACKAGE: Please make sure to use the following settings in order to reproduce any error or warning you see on this page.
Package 29/1882HostnameOS / ArchINSTALLBUILDCHECKBUILD BIN
affyILM 1.41.0
Myriam Kroll and Fabrice Berger
Snapshot Date: 2020-08-09 14:51:29 -0400 (Sun, 09 Aug 2020)
URL: https://git.bioconductor.org/packages/affyILM
Branch: master
Last Commit: 161cc40
Last Changed Date: 2020-04-27 14:22:18 -0400 (Mon, 27 Apr 2020)
malbec1 Linux (Ubuntu 18.04.4 LTS) / x86_64  OK  OK  OK UNNEEDED, same version exists in internal repository
nebbiolo1 Linux (Ubuntu 20.04.1 LTS) / x86_64  OK  OK  OK 
tokay1 Windows Server 2012 R2 Standard / x64  OK  OK  OK  OK UNNEEDED, same version exists in internal repository
merida1 macOS 10.14.6 Mojave / x86_64  OK [ OK ] OK  OK UNNEEDED, same version exists in internal repository

Summary

Package: affyILM
Version: 1.41.0
Command: /Library/Frameworks/R.framework/Versions/Current/Resources/bin/R CMD build --keep-empty-dirs --no-resave-data affyILM
StartedAt: 2020-08-09 18:17:22 -0400 (Sun, 09 Aug 2020)
EndedAt: 2020-08-09 18:18:57 -0400 (Sun, 09 Aug 2020)
EllapsedTime: 95.5 seconds
RetCode: 0
Status:  OK 
PackageFile: affyILM_1.41.0.tar.gz
PackageFileSize: 129.7 KiB

Command output

##############################################################################
##############################################################################
###
### Running command:
###
###   /Library/Frameworks/R.framework/Versions/Current/Resources/bin/R CMD build --keep-empty-dirs --no-resave-data affyILM
###
##############################################################################
##############################################################################


* checking for file ‘affyILM/DESCRIPTION’ ... OK
* preparing ‘affyILM’:
* checking DESCRIPTION meta-information ... OK
* installing the package to build vignettes
* creating vignettes ... OK
* checking for LF line-endings in source and make files and shell scripts
* checking for empty or unneeded directories
* building ‘affyILM_1.41.0.tar.gz’