Back to Multiple platform build/check report for BioC 3.12
A[B]CDEFGHIJKLMNOPQRSTUVWXYZ

BUILD report for batchelor on malbec1

This page was generated on 2020-08-10 11:48:27 -0400 (Mon, 10 Aug 2020).

TO THE DEVELOPERS/MAINTAINERS OF THE batchelor PACKAGE: Please make sure to use the following settings in order to reproduce any error or warning you see on this page.
Package 116/1882HostnameOS / ArchINSTALLBUILDCHECKBUILD BIN
batchelor 1.5.2
Aaron Lun
Snapshot Date: 2020-08-09 14:51:29 -0400 (Sun, 09 Aug 2020)
URL: https://git.bioconductor.org/packages/batchelor
Branch: master
Last Commit: e05a846
Last Changed Date: 2020-07-12 04:08:02 -0400 (Sun, 12 Jul 2020)
malbec1 Linux (Ubuntu 18.04.4 LTS) / x86_64  OK [ OK ] OK UNNEEDED, same version exists in internal repository
nebbiolo1 Linux (Ubuntu 20.04.1 LTS) / x86_64  OK  OK  OK 
tokay1 Windows Server 2012 R2 Standard / x64  OK  OK  OK  OK UNNEEDED, same version exists in internal repository
merida1 macOS 10.14.6 Mojave / x86_64  OK  OK  OK  OK UNNEEDED, same version exists in internal repository

Summary

Package: batchelor
Version: 1.5.2
Command: /home/biocbuild/bbs-3.12-bioc/R/bin/R CMD build --keep-empty-dirs --no-resave-data batchelor
StartedAt: 2020-08-09 21:31:37 -0400 (Sun, 09 Aug 2020)
EndedAt: 2020-08-09 21:38:22 -0400 (Sun, 09 Aug 2020)
EllapsedTime: 405.6 seconds
RetCode: 0
Status:  OK 
PackageFile: batchelor_1.5.2.tar.gz
PackageFileSize: 1.832 MiB

Command output

##############################################################################
##############################################################################
###
### Running command:
###
###   /home/biocbuild/bbs-3.12-bioc/R/bin/R CMD build --keep-empty-dirs --no-resave-data batchelor
###
##############################################################################
##############################################################################


* checking for file ‘batchelor/DESCRIPTION’ ... OK
* preparing ‘batchelor’:
* checking DESCRIPTION meta-information ... OK
* cleaning src
* installing the package to build vignettes
* creating vignettes ... OK
* cleaning src
* checking for LF line-endings in source and make files and shell scripts
* checking for empty or unneeded directories
* building ‘batchelor_1.5.2.tar.gz’