Back to Multiple platform build/check report for BioC 3.12
[A]BCDEFGHIJKLMNOPQRSTUVWXYZ

INSTALL report for animalcules on tokay1

This page was generated on 2020-08-06 12:09:27 -0400 (Thu, 06 Aug 2020).

TO THE DEVELOPERS/MAINTAINERS OF THE animalcules PACKAGE: Please make sure to use the following settings in order to reproduce any error or warning you see on this page.
Package 54/1882HostnameOS / ArchINSTALLBUILDCHECKBUILD BIN
animalcules 1.5.1
Yue Zhao
Snapshot Date: 2020-08-05 14:50:59 -0400 (Wed, 05 Aug 2020)
URL: https://git.bioconductor.org/packages/animalcules
Branch: master
Last Commit: 36c4fb6
Last Changed Date: 2020-06-18 11:25:25 -0400 (Thu, 18 Jun 2020)
malbec1 Linux (Ubuntu 18.04.4 LTS) / x86_64  OK  OK  OK UNNEEDED, same version exists in internal repository
tokay1 Windows Server 2012 R2 Standard / x64 [ OK ] OK  OK  OK UNNEEDED, same version exists in internal repository
merida1 macOS 10.14.6 Mojave / x86_64  OK  OK  OK  OK UNNEEDED, same version exists in internal repository

Summary

Package: animalcules
Version: 1.5.1
Command: C:\cygwin\bin\curl.exe -O https://malbec1.bioconductor.org/BBS/3.12/bioc/src/contrib/animalcules_1.5.1.tar.gz && rm -rf animalcules.buildbin-libdir && mkdir animalcules.buildbin-libdir && C:\Users\biocbuild\bbs-3.12-bioc\R\bin\R.exe CMD INSTALL --merge-multiarch --build --library=animalcules.buildbin-libdir animalcules_1.5.1.tar.gz && C:\Users\biocbuild\bbs-3.12-bioc\R\bin\R.exe CMD INSTALL animalcules_1.5.1.zip && rm animalcules_1.5.1.tar.gz animalcules_1.5.1.zip
StartedAt: 2020-08-05 18:25:45 -0400 (Wed, 05 Aug 2020)
EndedAt: 2020-08-05 18:27:35 -0400 (Wed, 05 Aug 2020)
EllapsedTime: 110.2 seconds
RetCode: 0
Status:  OK  

Command output

##############################################################################
##############################################################################
###
### Running command:
###
###   C:\cygwin\bin\curl.exe -O https://malbec1.bioconductor.org/BBS/3.12/bioc/src/contrib/animalcules_1.5.1.tar.gz && rm -rf animalcules.buildbin-libdir && mkdir animalcules.buildbin-libdir && C:\Users\biocbuild\bbs-3.12-bioc\R\bin\R.exe CMD INSTALL --merge-multiarch --build --library=animalcules.buildbin-libdir animalcules_1.5.1.tar.gz && C:\Users\biocbuild\bbs-3.12-bioc\R\bin\R.exe CMD INSTALL animalcules_1.5.1.zip && rm animalcules_1.5.1.tar.gz animalcules_1.5.1.zip
###
##############################################################################
##############################################################################


  % Total    % Received % Xferd  Average Speed   Time    Time     Time  Current
                                 Dload  Upload   Total   Spent    Left  Speed

  0     0    0     0    0     0      0      0 --:--:-- --:--:-- --:--:--     0
100 1844k  100 1844k    0     0  30.1M      0 --:--:-- --:--:-- --:--:-- 32.1M

install for i386

* installing *source* package 'animalcules' ...
** using staged installation
** R
** inst
** byte-compile and prepare package for lazy loading
** help
*** installing help indices
  converting help for package 'animalcules'
    finding HTML links ... done
    alpha_div_boxplot                       html  
    alpha_div_test                          html  
    animalcules-package                     html  
    counts_to_logcpm                        html  
    counts_to_relabu                        html  
    df_char_to_factor                       html  
    differential_abundance                  html  
    dimred_pca                              html  
    dimred_pcoa                             html  
    dimred_tsne                             html  
    dimred_umap                             html  
    diversities                             html  
    diversities_help                        html  
    diversity_beta_boxplot                  html  
    diversity_beta_heatmap                  html  
    diversity_beta_test                     html  
    do_alpha_div_test                       html  
    filter_categorize                       html  
    filter_summary_bar_density              html  
    filter_summary_pie_box                  html  
    find_biomarker                          html  
    find_taxon_mat                          html  
    find_taxonomy                           html  
    find_taxonomy_300                       html  
    gini_simpson                            html  
    grep_tid                                html  
    inverse_simpson                         html  
    is_categorical                          html  
    is_integer0                             html  
    is_integer1                             html  
    mae_pick_organisms                      html  
    mae_pick_samples                        html  
    pct2str                                 html  
    percent                                 html  
    read_pathoscope_data                    html  
    relabu_barplot                          html  
    relabu_boxplot                          html  
    relabu_heatmap                          html  
    run_animalcules                         html  
    shannon                                 html  
    simpson_index                           html  
    upsample_counts                         html  
    write_to_biom                           html  
** building package indices
** installing vignettes
** testing if installed package can be loaded from temporary location
** testing if installed package can be loaded from final location
** testing if installed package keeps a record of temporary installation path

install for x64

* installing *source* package 'animalcules' ...
** testing if installed package can be loaded
* MD5 sums
packaged installation of 'animalcules' as animalcules_1.5.1.zip
* DONE (animalcules)
* installing to library 'C:/Users/biocbuild/bbs-3.12-bioc/R/library'
package 'animalcules' successfully unpacked and MD5 sums checked