Back to Multiple platform build/check report for BioC 3.12
[A]BCDEFGHIJKLMNOPQRSTUVWXYZ

INSTALL report for APAlyzer on tokay1

This page was generated on 2020-08-09 12:17:47 -0400 (Sun, 09 Aug 2020).

TO THE DEVELOPERS/MAINTAINERS OF THE APAlyzer PACKAGE: Please make sure to use the following settings in order to reproduce any error or warning you see on this page.
Package 70/1882HostnameOS / ArchINSTALLBUILDCHECKBUILD BIN
APAlyzer 1.3.3
Ruijia Wang
Snapshot Date: 2020-08-08 14:51:01 -0400 (Sat, 08 Aug 2020)
URL: https://git.bioconductor.org/packages/APAlyzer
Branch: master
Last Commit: db11964
Last Changed Date: 2020-07-20 22:58:05 -0400 (Mon, 20 Jul 2020)
malbec1 Linux (Ubuntu 18.04.4 LTS) / x86_64  OK  OK  OK UNNEEDED, same version exists in internal repository
nebbiolo1 Linux (Ubuntu 20.04.1 LTS) / x86_64  OK  OK  OK 
tokay1 Windows Server 2012 R2 Standard / x64 [ OK ] OK  OK  OK UNNEEDED, same version exists in internal repository
merida1 macOS 10.14.6 Mojave / x86_64  OK  OK  OK  OK UNNEEDED, same version exists in internal repository

Summary

Package: APAlyzer
Version: 1.3.3
Command: C:\cygwin\bin\curl.exe -O https://malbec1.bioconductor.org/BBS/3.12/bioc/src/contrib/APAlyzer_1.3.3.tar.gz && rm -rf APAlyzer.buildbin-libdir && mkdir APAlyzer.buildbin-libdir && C:\Users\biocbuild\bbs-3.12-bioc\R\bin\R.exe CMD INSTALL --merge-multiarch --build --library=APAlyzer.buildbin-libdir APAlyzer_1.3.3.tar.gz && C:\Users\biocbuild\bbs-3.12-bioc\R\bin\R.exe CMD INSTALL APAlyzer_1.3.3.zip && rm APAlyzer_1.3.3.tar.gz APAlyzer_1.3.3.zip
StartedAt: 2020-08-08 18:37:37 -0400 (Sat, 08 Aug 2020)
EndedAt: 2020-08-08 18:38:39 -0400 (Sat, 08 Aug 2020)
EllapsedTime: 62.0 seconds
RetCode: 0
Status:  OK  

Command output

##############################################################################
##############################################################################
###
### Running command:
###
###   C:\cygwin\bin\curl.exe -O https://malbec1.bioconductor.org/BBS/3.12/bioc/src/contrib/APAlyzer_1.3.3.tar.gz && rm -rf APAlyzer.buildbin-libdir && mkdir APAlyzer.buildbin-libdir && C:\Users\biocbuild\bbs-3.12-bioc\R\bin\R.exe CMD INSTALL --merge-multiarch --build --library=APAlyzer.buildbin-libdir APAlyzer_1.3.3.tar.gz && C:\Users\biocbuild\bbs-3.12-bioc\R\bin\R.exe CMD INSTALL APAlyzer_1.3.3.zip && rm APAlyzer_1.3.3.tar.gz APAlyzer_1.3.3.zip
###
##############################################################################
##############################################################################


  % Total    % Received % Xferd  Average Speed   Time    Time     Time  Current
                                 Dload  Upload   Total   Spent    Left  Speed

  0     0    0     0    0     0      0      0 --:--:-- --:--:-- --:--:--     0
100 3223k  100 3223k    0     0  45.5M      0 --:--:-- --:--:-- --:--:-- 48.4M

install for i386

* installing *source* package 'APAlyzer' ...
** using staged installation
** R
** inst
** byte-compile and prepare package for lazy loading
** help
*** installing help indices
  converting help for package 'APAlyzer'
    finding HTML links ... done
    APABox                                  html  
    APAVolcano                              html  
    APAdiff                                 html  
    GENEXP_CDS                              html  
    PAS2GEF                                 html  
    PASEXP_3UTR                             html  
    PASEXP_IPA                              html  
    REF3UTR                                 html  
    REF4PAS                                 html  
    REFCDS                                  html  
    download_testbam                        html  
** building package indices
** installing vignettes
** testing if installed package can be loaded from temporary location
** testing if installed package can be loaded from final location
** testing if installed package keeps a record of temporary installation path

install for x64

* installing *source* package 'APAlyzer' ...
** testing if installed package can be loaded
* MD5 sums
packaged installation of 'APAlyzer' as APAlyzer_1.3.3.zip
* DONE (APAlyzer)
* installing to library 'C:/Users/biocbuild/bbs-3.12-bioc/R/library'
package 'APAlyzer' successfully unpacked and MD5 sums checked