Back to Multiple platform build/check report for BioC 3.12
A[B]CDEFGHIJKLMNOPQRSTUVWXYZ

INSTALL report for BiocCheck on malbec1

This page was generated on 2020-08-11 11:20:00 -0400 (Tue, 11 Aug 2020).

TO THE DEVELOPERS/MAINTAINERS OF THE BiocCheck PACKAGE: Please make sure to use the following settings in order to reproduce any error or warning you see on this page.
Package 149/1885HostnameOS / ArchINSTALLBUILDCHECKBUILD BIN
BiocCheck 1.25.4
Bioconductor Package Maintainer
Snapshot Date: 2020-08-10 14:50:56 -0400 (Mon, 10 Aug 2020)
URL: https://git.bioconductor.org/packages/BiocCheck
Branch: master
Last Commit: c0d2faa
Last Changed Date: 2020-06-26 12:04:17 -0400 (Fri, 26 Jun 2020)
malbec1 Linux (Ubuntu 18.04.4 LTS) / x86_64 [ OK ] OK  OK UNNEEDED, same version exists in internal repository
nebbiolo1 Linux (Ubuntu 20.04.1 LTS) / x86_64  OK  OK  NA 
tokay1 Windows Server 2012 R2 Standard / x64  OK  OK  OK  OK UNNEEDED, same version exists in internal repository
merida1 macOS 10.14.6 Mojave / x86_64  OK  OK  OK  OK UNNEEDED, same version exists in internal repository

Summary

Package: BiocCheck
Version: 1.25.4
Command: /home/biocbuild/bbs-3.12-bioc/R/bin/R CMD INSTALL BiocCheck
StartedAt: 2020-08-10 16:36:10 -0400 (Mon, 10 Aug 2020)
EndedAt: 2020-08-10 16:36:18 -0400 (Mon, 10 Aug 2020)
EllapsedTime: 8.1 seconds
RetCode: 0
Status:  OK 

Command output

##############################################################################
##############################################################################
###
### Running command:
###
###   /home/biocbuild/bbs-3.12-bioc/R/bin/R CMD INSTALL BiocCheck
###
##############################################################################
##############################################################################


* installing to library ‘/home/biocbuild/bbs-3.12-bioc/R/library’
* installing *source* package ‘BiocCheck’ ...
** using staged installation
** R
** inst
** byte-compile and prepare package for lazy loading
** help
*** installing help indices
** building package indices
** installing vignettes
** testing if installed package can be loaded from temporary location
** testing if installed package can be loaded from final location
** testing if installed package keeps a record of temporary installation path
* DONE (BiocCheck)