Back to Multiple platform build/check report for BioC 3.12
[A]BCDEFGHIJKLMNOPQRSTUVWXYZ

BUILD BIN report for annotate on merida1

This page was generated on 2021-02-22 12:41:40 -0500 (Mon, 22 Feb 2021).

To the developers/maintainers of the annotate package:
Please make sure to use the following settings in order to reproduce any error or warning you see on this page.
Package 61/1974HostnameOS / ArchINSTALLBUILDCHECKBUILD BIN
annotate 1.68.0
Bioconductor Package Maintainer
Snapshot Date: 2021-02-21 14:52:07 -0500 (Sun, 21 Feb 2021)
URL: https://git.bioconductor.org/packages/annotate
Branch: RELEASE_3_12
Last Commit: 98cdb12
Last Changed Date: 2020-10-27 10:21:39 -0500 (Tue, 27 Oct 2020)
malbec1Linux (Ubuntu 18.04.5 LTS) / x86_64  OK    OK    OK  UNNEEDED, same version exists in internal repository
nebbiolo1Linux (Ubuntu 20.04.2 LTS) / x86_64  OK    OK    OK  
tokay1Windows Server 2012 R2 Standard / x64  OK    OK    ERROR    OK  
merida1macOS 10.14.6 Mojave / x86_64  OK    OK    OK    OK  UNNEEDED, same version exists in internal repository

Summary

Package: annotate
Version: 1.68.0
Command: rm -rf annotate.buildbin-libdir && mkdir annotate.buildbin-libdir && /Users/biocbuild/BBS/utils/build-universal.sh annotate_1.68.0.tar.gz /Library/Frameworks/R.framework/Versions/Current/Resources/bin/R annotate.buildbin-libdir
StartedAt: 2021-02-22 07:52:41 -0500 (Mon, 22 Feb 2021)
EndedAt: 2021-02-22 07:53:43 -0500 (Mon, 22 Feb 2021)
EllapsedTime: 62.1 seconds
RetCode: 0
Status:   OK  
PackageFile: annotate_1.68.0.tgz
PackageFileSize: 2.079 MiB

Command output

##############################################################################
##############################################################################
###
### Running command:
###
###   rm -rf annotate.buildbin-libdir && mkdir annotate.buildbin-libdir && /Users/biocbuild/BBS/utils/build-universal.sh annotate_1.68.0.tar.gz /Library/Frameworks/R.framework/Versions/Current/Resources/bin/R annotate.buildbin-libdir
###
##############################################################################
##############################################################################


>>>>>>> 
>>>>>>> INSTALLATION WITH 'R CMD INSTALL --preclean --no-multiarch --library=annotate.buildbin-libdir annotate_1.68.0.tar.gz'
>>>>>>> 

* installing *source* package ‘annotate’ ...
** using staged installation
** R
** data
** inst
** byte-compile and prepare package for lazy loading
** help
*** installing help indices
** building package indices
** installing vignettes
** testing if installed package can be loaded from temporary location
** testing if installed package can be loaded from final location
** testing if installed package keeps a record of temporary installation path
* DONE (annotate)