Back to Multiple platform build/check report for BioC 3.12
A[B]CDEFGHIJKLMNOPQRSTUVWXYZ

BUILD report for biovizBase on merida1

This page was generated on 2020-09-20 10:21:20 -0400 (Sun, 20 Sep 2020).

TO THE DEVELOPERS/MAINTAINERS OF THE biovizBase PACKAGE: Please make sure to use the following settings in order to reproduce any error or warning you see on this page.
Package 182/1912HostnameOS / ArchINSTALLBUILDCHECKBUILD BIN
biovizBase 1.37.0
Michael Lawrence
Snapshot Date: 2020-09-19 14:40:23 -0400 (Sat, 19 Sep 2020)
URL: https://git.bioconductor.org/packages/biovizBase
Branch: master
Last Commit: 05615a7
Last Changed Date: 2020-04-27 14:27:05 -0400 (Mon, 27 Apr 2020)
malbec1 Linux (Ubuntu 18.04.4 LTS) / x86_64  OK  OK  WARNINGS UNNEEDED, same version exists in internal repository
nebbiolo1 Linux (Ubuntu 20.04.1 LTS) / x86_64  OK  OK  WARNINGS 
tokay1 Windows Server 2012 R2 Standard / x64  OK  OK  WARNINGS  OK UNNEEDED, same version exists in internal repository
riesling1 Windows Server 2019 Standard / x64  OK  OK  WARNINGS  OK 
merida1 macOS 10.14.6 Mojave / x86_64  OK [ OK ] WARNINGS  OK UNNEEDED, same version exists in internal repository

Summary

Package: biovizBase
Version: 1.37.0
Command: /Library/Frameworks/R.framework/Versions/Current/Resources/bin/R CMD build --keep-empty-dirs --no-resave-data biovizBase
StartedAt: 2020-09-19 18:35:10 -0400 (Sat, 19 Sep 2020)
EndedAt: 2020-09-19 18:36:36 -0400 (Sat, 19 Sep 2020)
EllapsedTime: 85.5 seconds
RetCode: 0
Status:  OK 
PackageFile: biovizBase_1.37.0.tar.gz
PackageFileSize: 2.307 MiB

Command output

##############################################################################
##############################################################################
###
### Running command:
###
###   /Library/Frameworks/R.framework/Versions/Current/Resources/bin/R CMD build --keep-empty-dirs --no-resave-data biovizBase
###
##############################################################################
##############################################################################


* checking for file ‘biovizBase/DESCRIPTION’ ... OK
* preparing ‘biovizBase’:
* checking DESCRIPTION meta-information ... OK
* cleaning src
* installing the package to build vignettes
* creating vignettes ... OK
* cleaning src
* checking for LF line-endings in source and make files and shell scripts
* checking for empty or unneeded directories
* building ‘biovizBase_1.37.0.tar.gz’