Back to Multiple platform build/check report for BioC 3.12
AB[C]DEFGHIJKLMNOPQRSTUVWXYZ

BUILD report for ccmap on merida1

This page was generated on 2020-08-11 11:59:09 -0400 (Tue, 11 Aug 2020).

TO THE DEVELOPERS/MAINTAINERS OF THE ccmap PACKAGE: Please make sure to use the following settings in order to reproduce any error or warning you see on this page.
Package 234/1885HostnameOS / ArchINSTALLBUILDCHECKBUILD BIN
ccmap 1.15.0
Alex Pickering
Snapshot Date: 2020-08-10 14:50:56 -0400 (Mon, 10 Aug 2020)
URL: https://git.bioconductor.org/packages/ccmap
Branch: master
Last Commit: 80d6bb6
Last Changed Date: 2020-04-27 14:58:50 -0400 (Mon, 27 Apr 2020)
malbec1 Linux (Ubuntu 18.04.4 LTS) / x86_64  OK  OK  OK UNNEEDED, same version exists in internal repository
nebbiolo1 Linux (Ubuntu 20.04.1 LTS) / x86_64  OK  OK  NA 
tokay1 Windows Server 2012 R2 Standard / x64  OK  OK  OK  OK UNNEEDED, same version exists in internal repository
merida1 macOS 10.14.6 Mojave / x86_64  OK [ OK ] OK  OK UNNEEDED, same version exists in internal repository

Summary

Package: ccmap
Version: 1.15.0
Command: /Library/Frameworks/R.framework/Versions/Current/Resources/bin/R CMD build --keep-empty-dirs --no-resave-data ccmap
StartedAt: 2020-08-10 20:14:34 -0400 (Mon, 10 Aug 2020)
EndedAt: 2020-08-10 20:17:04 -0400 (Mon, 10 Aug 2020)
EllapsedTime: 150.5 seconds
RetCode: 0
Status:  OK 
PackageFile: ccmap_1.15.0.tar.gz
PackageFileSize: 446 KiB

Command output

##############################################################################
##############################################################################
###
### Running command:
###
###   /Library/Frameworks/R.framework/Versions/Current/Resources/bin/R CMD build --keep-empty-dirs --no-resave-data ccmap
###
##############################################################################
##############################################################################


* checking for file ‘ccmap/DESCRIPTION’ ... OK
* preparing ‘ccmap’:
* checking DESCRIPTION meta-information ... OK
* installing the package to build vignettes
* creating vignettes ... OK
* checking for LF line-endings in source and make files and shell scripts
* checking for empty or unneeded directories
* building ‘ccmap_1.15.0.tar.gz’