Back to Multiple platform build/check report for BioC 3.12
[A]BCDEFGHIJKLMNOPQRSTUVWXYZ

BUILD BIN report for ASEB on merida1

This page was generated on 2021-01-13 11:59:21 -0500 (Wed, 13 Jan 2021).

TO THE DEVELOPERS/MAINTAINERS OF THE ASEB PACKAGE: Please make sure to use the following settings in order to reproduce any error or warning you see on this page.
Package 91/1974HostnameOS / ArchINSTALLBUILDCHECKBUILD BIN
ASEB 1.34.0
Likun Wang
Snapshot Date: 2021-01-12 14:40:26 -0500 (Tue, 12 Jan 2021)
URL: https://git.bioconductor.org/packages/ASEB
Branch: RELEASE_3_12
Last Commit: 21baac1
Last Changed Date: 2020-10-27 10:44:11 -0500 (Tue, 27 Oct 2020)
malbec1 Linux (Ubuntu 18.04.5 LTS) / x86_64  OK  OK  OK UNNEEDED, same version exists in internal repository
nebbiolo1 Linux (Ubuntu 20.04.1 LTS) / x86_64  OK  OK  OK 
tokay1 Windows Server 2012 R2 Standard / x64  OK  OK  OK  OK UNNEEDED, same version exists in internal repository
merida1 macOS 10.14.6 Mojave / x86_64  OK  OK  OK [ OK ]UNNEEDED, same version exists in internal repository

Summary

Package: ASEB
Version: 1.34.0
Command: rm -rf ASEB.buildbin-libdir && mkdir ASEB.buildbin-libdir && /Users/biocbuild/BBS/utils/build-universal.sh ASEB_1.34.0.tar.gz /Library/Frameworks/R.framework/Versions/Current/Resources/bin/R ASEB.buildbin-libdir
StartedAt: 2021-01-13 08:21:27 -0500 (Wed, 13 Jan 2021)
EndedAt: 2021-01-13 08:23:03 -0500 (Wed, 13 Jan 2021)
EllapsedTime: 95.3 seconds
RetCode: 0
Status:  OK 
PackageFile: ASEB_1.34.0.tgz
PackageFileSize: 667.3 KiB

Command output

##############################################################################
##############################################################################
###
### Running command:
###
###   rm -rf ASEB.buildbin-libdir && mkdir ASEB.buildbin-libdir && /Users/biocbuild/BBS/utils/build-universal.sh ASEB_1.34.0.tar.gz /Library/Frameworks/R.framework/Versions/Current/Resources/bin/R ASEB.buildbin-libdir
###
##############################################################################
##############################################################################


>>>>>>> 
>>>>>>> INSTALLATION WITH 'R CMD INSTALL --preclean --no-multiarch --library=ASEB.buildbin-libdir ASEB_1.34.0.tar.gz'
>>>>>>> 

* installing *source* package ‘ASEB’ ...
** using staged installation
** libs
clang++ -mmacosx-version-min=10.13 -std=gnu++11 -I"/Library/Frameworks/R.framework/Resources/include" -DNDEBUG   -I/usr/local/include   -fPIC  -Wall -g -O2  -c asebC.cpp -o asebC.o
clang++ -mmacosx-version-min=10.13 -std=gnu++11 -dynamiclib -Wl,-headerpad_max_install_names -undefined dynamic_lookup -single_module -multiply_defined suppress -L/Library/Frameworks/R.framework/Resources/lib -L/usr/local/lib -o ASEB.so asebC.o -F/Library/Frameworks/R.framework/.. -framework R -Wl,-framework -Wl,CoreFoundation
installing to /Users/biocbuild/bbs-3.12-bioc/meat/ASEB.buildbin-libdir/00LOCK-ASEB/00new/ASEB/libs
** R
** inst
** byte-compile and prepare package for lazy loading
** help
*** installing help indices
** building package indices
** installing vignettes
** testing if installed package can be loaded from temporary location
** checking absolute paths in shared objects and dynamic libraries
** testing if installed package can be loaded from final location
** testing if installed package keeps a record of temporary installation path
* DONE (ASEB)


>>>>>>> 
>>>>>>> FIXING LINKS FOR ASEB.buildbin-libdir/ASEB/libs/ASEB.so
>>>>>>> 

install_name_tool -change "/usr/local/lib/libgcc_s.1.dylib" "/Library/Frameworks/R.framework/Versions/4.0/Resources/lib/libgcc_s.1.dylib" "ASEB.buildbin-libdir/ASEB/libs/ASEB.so"
install_name_tool -change "/usr/local/lib/libgfortran.5.dylib" "/Library/Frameworks/R.framework/Versions/4.0/Resources/lib/libgfortran.5.dylib" "ASEB.buildbin-libdir/ASEB/libs/ASEB.so"
install_name_tool -change "/usr/local/lib/libquadmath.0.dylib" "/Library/Frameworks/R.framework/Versions/4.0/Resources/lib/libquadmath.0.dylib" "ASEB.buildbin-libdir/ASEB/libs/ASEB.so"