Back to Multiple platform build/check report for BioC 3.12
AB[C]DEFGHIJKLMNOPQRSTUVWXYZ

BUILD report for CGEN on malbec1

This page was generated on 2020-08-06 11:31:02 -0400 (Thu, 06 Aug 2020).

TO THE DEVELOPERS/MAINTAINERS OF THE CGEN PACKAGE: Please make sure to use the following settings in order to reproduce any error or warning you see on this page.
Package 255/1882HostnameOS / ArchINSTALLBUILDCHECKBUILD BIN
CGEN 3.25.1
William Wheeler
Snapshot Date: 2020-08-05 14:50:59 -0400 (Wed, 05 Aug 2020)
URL: https://git.bioconductor.org/packages/CGEN
Branch: master
Last Commit: adf5934
Last Changed Date: 2020-06-01 09:59:32 -0400 (Mon, 01 Jun 2020)
malbec1 Linux (Ubuntu 18.04.4 LTS) / x86_64  OK [ OK ] ERROR 
tokay1 Windows Server 2012 R2 Standard / x64  OK  OK  ERROR  OK 
merida1 macOS 10.14.6 Mojave / x86_64  OK  OK  ERROR  OK 

Summary

Package: CGEN
Version: 3.25.1
Command: /home/biocbuild/bbs-3.12-bioc/R/bin/R CMD build --keep-empty-dirs --no-resave-data CGEN
StartedAt: 2020-08-05 17:53:04 -0400 (Wed, 05 Aug 2020)
EndedAt: 2020-08-05 17:54:14 -0400 (Wed, 05 Aug 2020)
EllapsedTime: 69.5 seconds
RetCode: 0
Status:  OK 
PackageFile: CGEN_3.25.1.tar.gz
PackageFileSize: 851 KiB

Command output

##############################################################################
##############################################################################
###
### Running command:
###
###   /home/biocbuild/bbs-3.12-bioc/R/bin/R CMD build --keep-empty-dirs --no-resave-data CGEN
###
##############################################################################
##############################################################################


* checking for file ‘CGEN/DESCRIPTION’ ... OK
* preparing ‘CGEN’:
* checking DESCRIPTION meta-information ... OK
* cleaning src
* installing the package to build vignettes
* creating vignettes ... OK
* cleaning src
* checking for LF line-endings in source and make files and shell scripts
* checking for empty or unneeded directories
* looking to see if a ‘data/datalist’ file should be added
* building ‘CGEN_3.25.1.tar.gz’