Back to Multiple platform build/check report for BioC 3.12
[A]BCDEFGHIJKLMNOPQRSTUVWXYZ

BUILD BIN report for alevinQC on tokay1

This page was generated on 2020-08-12 11:49:03 -0400 (Wed, 12 Aug 2020).

TO THE DEVELOPERS/MAINTAINERS OF THE alevinQC PACKAGE: Please make sure to use the following settings in order to reproduce any error or warning you see on this page.
Package 41/1885HostnameOS / ArchINSTALLBUILDCHECKBUILD BIN
alevinQC 1.5.1
Charlotte Soneson
Snapshot Date: 2020-08-11 14:50:16 -0400 (Tue, 11 Aug 2020)
URL: https://git.bioconductor.org/packages/alevinQC
Branch: master
Last Commit: 2658812
Last Changed Date: 2020-05-08 07:29:47 -0400 (Fri, 08 May 2020)
malbec1 Linux (Ubuntu 18.04.4 LTS) / x86_64  OK  OK  OK UNNEEDED, same version exists in internal repository
nebbiolo1 Linux (Ubuntu 20.04.1 LTS) / x86_64  OK  OK  OK 
tokay1 Windows Server 2012 R2 Standard / x64  OK  OK  OK [ OK ]UNNEEDED, same version exists in internal repository
merida1 macOS 10.14.6 Mojave / x86_64  OK  OK  OK  OK UNNEEDED, same version exists in internal repository

Summary

Package: alevinQC
Version: 1.5.1
Command: rm -rf alevinQC.buildbin-libdir && mkdir alevinQC.buildbin-libdir && C:\Users\biocbuild\bbs-3.12-bioc\R\bin\R.exe CMD INSTALL --merge-multiarch --build --library=alevinQC.buildbin-libdir alevinQC_1.5.1.tar.gz
StartedAt: 2020-08-12 08:59:39 -0400 (Wed, 12 Aug 2020)
EndedAt: 2020-08-12 09:00:27 -0400 (Wed, 12 Aug 2020)
EllapsedTime: 48.4 seconds
RetCode: 0
Status:  OK  
PackageFile: alevinQC_1.5.1.zip
PackageFileSize: 4.816 MiB

Command output

##############################################################################
##############################################################################
###
### Running command:
###
###   rm -rf alevinQC.buildbin-libdir && mkdir alevinQC.buildbin-libdir && C:\Users\biocbuild\bbs-3.12-bioc\R\bin\R.exe CMD INSTALL --merge-multiarch --build --library=alevinQC.buildbin-libdir alevinQC_1.5.1.tar.gz
###
##############################################################################
##############################################################################



install for i386

* installing *source* package 'alevinQC' ...
** using staged installation
** R
** inst
** byte-compile and prepare package for lazy loading
** help
*** installing help indices
  converting help for package 'alevinQC'
    finding HTML links ... done
    alevinQC-pkg                            html  
    alevinQCReport                          html  
    alevinQCShiny                           html  
    checkAlevinInputFiles                   html  
    plotAlevinBarcodeCollapse               html  
    plotAlevinKneeNbrGenes                  html  
    plotAlevinKneeRaw                       html  
    plotAlevinQuant                         html  
    plotAlevinQuantPairs                    html  
    readAlevinQC                            html  
** building package indices
** installing vignettes
** testing if installed package can be loaded from temporary location
** testing if installed package can be loaded from final location
** testing if installed package keeps a record of temporary installation path

install for x64

* installing *source* package 'alevinQC' ...
** testing if installed package can be loaded
* MD5 sums
packaged installation of 'alevinQC' as alevinQC_1.5.1.zip
* DONE (alevinQC)