Back to Multiple platform build/check report for BioC 3.12
AB[C]DEFGHIJKLMNOPQRSTUVWXYZ

BUILD BIN report for cancerclass on tokay1

This page was generated on 2020-08-12 11:40:04 -0400 (Wed, 12 Aug 2020).

TO THE DEVELOPERS/MAINTAINERS OF THE cancerclass PACKAGE: Please make sure to use the following settings in order to reproduce any error or warning you see on this page.
Package 218/1885HostnameOS / ArchINSTALLBUILDCHECKBUILD BIN
cancerclass 1.33.0
Daniel Kosztyla
Snapshot Date: 2020-08-11 14:50:16 -0400 (Tue, 11 Aug 2020)
URL: https://git.bioconductor.org/packages/cancerclass
Branch: master
Last Commit: 9510177
Last Changed Date: 2020-04-27 14:29:45 -0400 (Mon, 27 Apr 2020)
malbec1 Linux (Ubuntu 18.04.4 LTS) / x86_64  OK  OK  OK UNNEEDED, same version exists in internal repository
nebbiolo1 Linux (Ubuntu 20.04.1 LTS) / x86_64  OK  OK  OK 
tokay1 Windows Server 2012 R2 Standard / x64  OK  OK  OK [ OK ]UNNEEDED, same version exists in internal repository
merida1 macOS 10.14.6 Mojave / x86_64  OK  OK  WARNINGS  OK UNNEEDED, same version exists in internal repository

Summary

Package: cancerclass
Version: 1.33.0
Command: rm -rf cancerclass.buildbin-libdir && mkdir cancerclass.buildbin-libdir && C:\Users\biocbuild\bbs-3.12-bioc\R\bin\R.exe CMD INSTALL --merge-multiarch --build --library=cancerclass.buildbin-libdir cancerclass_1.33.0.tar.gz
StartedAt: 2020-08-12 07:37:23 -0400 (Wed, 12 Aug 2020)
EndedAt: 2020-08-12 07:38:07 -0400 (Wed, 12 Aug 2020)
EllapsedTime: 44.3 seconds
RetCode: 0
Status:  OK  
PackageFile: cancerclass_1.33.0.zip
PackageFileSize: 1.619 MiB

Command output

##############################################################################
##############################################################################
###
### Running command:
###
###   rm -rf cancerclass.buildbin-libdir && mkdir cancerclass.buildbin-libdir && C:\Users\biocbuild\bbs-3.12-bioc\R\bin\R.exe CMD INSTALL --merge-multiarch --build --library=cancerclass.buildbin-libdir cancerclass_1.33.0.tar.gz
###
##############################################################################
##############################################################################



install for i386

* installing *source* package 'cancerclass' ...
** using staged installation
** libs
"C:/rtools40/mingw32/bin/"gcc  -I"C:/Users/BIOCBU~1/BBS-3~1.12-/R/include" -DNDEBUG     -I"C:/extsoft/include"     -O2 -Wall  -std=gnu99 -mfpmath=sse -msse2 -mstackrealign -c copa.c -o copa.o
"C:/rtools40/mingw32/bin/"gcc  -I"C:/Users/BIOCBU~1/BBS-3~1.12-/R/include" -DNDEBUG     -I"C:/extsoft/include"     -O2 -Wall  -std=gnu99 -mfpmath=sse -msse2 -mstackrealign -c cor.c -o cor.o
"C:/rtools40/mingw32/bin/"gcc  -I"C:/Users/BIOCBU~1/BBS-3~1.12-/R/include" -DNDEBUG     -I"C:/extsoft/include"     -O2 -Wall  -std=gnu99 -mfpmath=sse -msse2 -mstackrealign -c fc.c -o fc.o
"C:/rtools40/mingw32/bin/"gcc  -I"C:/Users/BIOCBU~1/BBS-3~1.12-/R/include" -DNDEBUG     -I"C:/extsoft/include"     -O2 -Wall  -std=gnu99 -mfpmath=sse -msse2 -mstackrealign -c help.c -o help.o
help.c: In function 'welch_df':
help.c:263:19: warning: variable 'mean2' set but not used [-Wunused-but-set-variable]
     double mean1, mean2, var1, var2 = 0.0;
                   ^~~~~
help.c:263:12: warning: variable 'mean1' set but not used [-Wunused-but-set-variable]
     double mean1, mean2, var1, var2 = 0.0;
            ^~~~~
help.c: In function 'bsortdesc':
help.c:344:13: warning: variable 'anzahl' set but not used [-Wunused-but-set-variable]
     int i,k,anzahl=0;
             ^~~~~~
help.c: In function 'bsort':
help.c:368:13: warning: variable 'anzahl' set but not used [-Wunused-but-set-variable]
     int i,k,anzahl=0;
             ^~~~~~
"C:/rtools40/mingw32/bin/"gcc  -I"C:/Users/BIOCBU~1/BBS-3~1.12-/R/include" -DNDEBUG     -I"C:/extsoft/include"     -O2 -Wall  -std=gnu99 -mfpmath=sse -msse2 -mstackrealign -c ort.c -o ort.o
"C:/rtools40/mingw32/bin/"gcc  -I"C:/Users/BIOCBU~1/BBS-3~1.12-/R/include" -DNDEBUG     -I"C:/extsoft/include"     -O2 -Wall  -std=gnu99 -mfpmath=sse -msse2 -mstackrealign -c os.c -o os.o
"C:/rtools40/mingw32/bin/"gcc  -I"C:/Users/BIOCBU~1/BBS-3~1.12-/R/include" -DNDEBUG     -I"C:/extsoft/include"     -O2 -Wall  -std=gnu99 -mfpmath=sse -msse2 -mstackrealign -c shift.c -o shift.o
"C:/rtools40/mingw32/bin/"gcc  -I"C:/Users/BIOCBU~1/BBS-3~1.12-/R/include" -DNDEBUG     -I"C:/extsoft/include"     -O2 -Wall  -std=gnu99 -mfpmath=sse -msse2 -mstackrealign -c statistics.c -o statistics.o
"C:/rtools40/mingw32/bin/"gcc  -I"C:/Users/BIOCBU~1/BBS-3~1.12-/R/include" -DNDEBUG     -I"C:/extsoft/include"     -O2 -Wall  -std=gnu99 -mfpmath=sse -msse2 -mstackrealign -c student.c -o student.o
"C:/rtools40/mingw32/bin/"gcc  -I"C:/Users/BIOCBU~1/BBS-3~1.12-/R/include" -DNDEBUG     -I"C:/extsoft/include"     -O2 -Wall  -std=gnu99 -mfpmath=sse -msse2 -mstackrealign -c throw.c -o throw.o
"C:/rtools40/mingw32/bin/"gcc  -I"C:/Users/BIOCBU~1/BBS-3~1.12-/R/include" -DNDEBUG     -I"C:/extsoft/include"     -O2 -Wall  -std=gnu99 -mfpmath=sse -msse2 -mstackrealign -c welch.c -o welch.o
"C:/rtools40/mingw32/bin/"gcc  -I"C:/Users/BIOCBU~1/BBS-3~1.12-/R/include" -DNDEBUG     -I"C:/extsoft/include"     -O2 -Wall  -std=gnu99 -mfpmath=sse -msse2 -mstackrealign -c wilcox.c -o wilcox.o
wilcox.c: In function 'wilcoxon':
wilcox.c:37:8: warning: variable 'overall' set but not used [-Wunused-but-set-variable]
    int overall = 0;
        ^~~~~~~
wilcox.c: In function 'pwilcoxon':
wilcox.c:75:8: warning: variable 'overall' set but not used [-Wunused-but-set-variable]
    int overall = 0;
        ^~~~~~~
C:/rtools40/mingw32/bin/gcc -shared -s -static-libgcc -o cancerclass.dll tmp.def copa.o cor.o fc.o help.o ort.o os.o shift.o statistics.o student.o throw.o welch.o wilcox.o -LC:/extsoft/lib/i386 -LC:/extsoft/lib -LC:/Users/BIOCBU~1/BBS-3~1.12-/R/bin/i386 -lR
installing to C:/Users/biocbuild/bbs-3.12-bioc/meat/cancerclass.buildbin-libdir/00LOCK-cancerclass/00new/cancerclass/libs/i386
** R
** data
** inst
** byte-compile and prepare package for lazy loading
** help
*** installing help indices
  converting help for package 'cancerclass'
    finding HTML links ... done
    GOLUB                                   html  
    cancerclass-internal                    html  
    cancerclass-package                     html  
    fit                                     html  
    loo                                     html  
    nvalidate                               html  
    nvalidation-class                       html  
    plot                                    html  
    plot3d                                  html  
    predict,predictor-method                html  
    prediction-class                        html  
    predictor-class                         html  
    summary,prediction-method               html  
    validate                                html  
    validation-class                        html  
** building package indices
** installing vignettes
** testing if installed package can be loaded from temporary location
** testing if installed package can be loaded from final location
** testing if installed package keeps a record of temporary installation path

install for x64

* installing *source* package 'cancerclass' ...
** libs
"C:/rtools40/mingw64/bin/"gcc  -I"C:/Users/BIOCBU~1/BBS-3~1.12-/R/include" -DNDEBUG     -I"C:/extsoft/include"     -O2 -Wall  -std=gnu99 -mfpmath=sse -msse2 -mstackrealign -c copa.c -o copa.o
"C:/rtools40/mingw64/bin/"gcc  -I"C:/Users/BIOCBU~1/BBS-3~1.12-/R/include" -DNDEBUG     -I"C:/extsoft/include"     -O2 -Wall  -std=gnu99 -mfpmath=sse -msse2 -mstackrealign -c cor.c -o cor.o
"C:/rtools40/mingw64/bin/"gcc  -I"C:/Users/BIOCBU~1/BBS-3~1.12-/R/include" -DNDEBUG     -I"C:/extsoft/include"     -O2 -Wall  -std=gnu99 -mfpmath=sse -msse2 -mstackrealign -c fc.c -o fc.o
"C:/rtools40/mingw64/bin/"gcc  -I"C:/Users/BIOCBU~1/BBS-3~1.12-/R/include" -DNDEBUG     -I"C:/extsoft/include"     -O2 -Wall  -std=gnu99 -mfpmath=sse -msse2 -mstackrealign -c help.c -o help.o
help.c: In function 'welch_df':
help.c:263:19: warning: variable 'mean2' set but not used [-Wunused-but-set-variable]
     double mean1, mean2, var1, var2 = 0.0;
                   ^~~~~
help.c:263:12: warning: variable 'mean1' set but not used [-Wunused-but-set-variable]
     double mean1, mean2, var1, var2 = 0.0;
            ^~~~~
help.c: In function 'bsortdesc':
help.c:344:13: warning: variable 'anzahl' set but not used [-Wunused-but-set-variable]
     int i,k,anzahl=0;
             ^~~~~~
help.c: In function 'bsort':
help.c:368:13: warning: variable 'anzahl' set but not used [-Wunused-but-set-variable]
     int i,k,anzahl=0;
             ^~~~~~
"C:/rtools40/mingw64/bin/"gcc  -I"C:/Users/BIOCBU~1/BBS-3~1.12-/R/include" -DNDEBUG     -I"C:/extsoft/include"     -O2 -Wall  -std=gnu99 -mfpmath=sse -msse2 -mstackrealign -c ort.c -o ort.o
"C:/rtools40/mingw64/bin/"gcc  -I"C:/Users/BIOCBU~1/BBS-3~1.12-/R/include" -DNDEBUG     -I"C:/extsoft/include"     -O2 -Wall  -std=gnu99 -mfpmath=sse -msse2 -mstackrealign -c os.c -o os.o
"C:/rtools40/mingw64/bin/"gcc  -I"C:/Users/BIOCBU~1/BBS-3~1.12-/R/include" -DNDEBUG     -I"C:/extsoft/include"     -O2 -Wall  -std=gnu99 -mfpmath=sse -msse2 -mstackrealign -c shift.c -o shift.o
"C:/rtools40/mingw64/bin/"gcc  -I"C:/Users/BIOCBU~1/BBS-3~1.12-/R/include" -DNDEBUG     -I"C:/extsoft/include"     -O2 -Wall  -std=gnu99 -mfpmath=sse -msse2 -mstackrealign -c statistics.c -o statistics.o
"C:/rtools40/mingw64/bin/"gcc  -I"C:/Users/BIOCBU~1/BBS-3~1.12-/R/include" -DNDEBUG     -I"C:/extsoft/include"     -O2 -Wall  -std=gnu99 -mfpmath=sse -msse2 -mstackrealign -c student.c -o student.o
"C:/rtools40/mingw64/bin/"gcc  -I"C:/Users/BIOCBU~1/BBS-3~1.12-/R/include" -DNDEBUG     -I"C:/extsoft/include"     -O2 -Wall  -std=gnu99 -mfpmath=sse -msse2 -mstackrealign -c throw.c -o throw.o
"C:/rtools40/mingw64/bin/"gcc  -I"C:/Users/BIOCBU~1/BBS-3~1.12-/R/include" -DNDEBUG     -I"C:/extsoft/include"     -O2 -Wall  -std=gnu99 -mfpmath=sse -msse2 -mstackrealign -c welch.c -o welch.o
"C:/rtools40/mingw64/bin/"gcc  -I"C:/Users/BIOCBU~1/BBS-3~1.12-/R/include" -DNDEBUG     -I"C:/extsoft/include"     -O2 -Wall  -std=gnu99 -mfpmath=sse -msse2 -mstackrealign -c wilcox.c -o wilcox.o
wilcox.c: In function 'wilcoxon':
wilcox.c:37:8: warning: variable 'overall' set but not used [-Wunused-but-set-variable]
    int overall = 0;
        ^~~~~~~
wilcox.c: In function 'pwilcoxon':
wilcox.c:75:8: warning: variable 'overall' set but not used [-Wunused-but-set-variable]
    int overall = 0;
        ^~~~~~~
C:/rtools40/mingw64/bin/gcc -shared -s -static-libgcc -o cancerclass.dll tmp.def copa.o cor.o fc.o help.o ort.o os.o shift.o statistics.o student.o throw.o welch.o wilcox.o -LC:/extsoft/lib/x64 -LC:/extsoft/lib -LC:/Users/BIOCBU~1/BBS-3~1.12-/R/bin/x64 -lR
installing to C:/Users/biocbuild/bbs-3.12-bioc/meat/cancerclass.buildbin-libdir/cancerclass/libs/x64
** testing if installed package can be loaded
* MD5 sums
packaged installation of 'cancerclass' as cancerclass_1.33.0.zip
* DONE (cancerclass)