Back to Multiple platform build/check report for BioC 3.12 |
|
This page was generated on 2021-02-22 12:36:47 -0500 (Mon, 22 Feb 2021).
To the developers/maintainers of the ADAMgui package: Please make sure to use the following settings in order to reproduce any error or warning you see on this page. |
Package 17/1974 | Hostname | OS / Arch | INSTALL | BUILD | CHECK | BUILD BIN | ||||||||
ADAMgui 1.6.0 Jose Luiz Rybarczyk Filho
| malbec1 | Linux (Ubuntu 18.04.5 LTS) / x86_64 | OK | OK | OK | ![]() | ||||||||
nebbiolo1 | Linux (Ubuntu 20.04.2 LTS) / x86_64 | OK | OK | OK | ||||||||||
tokay1 | Windows Server 2012 R2 Standard / x64 | OK | OK | OK | OK | ![]() | ||||||||
merida1 | macOS 10.14.6 Mojave / x86_64 | OK | OK | OK | OK | ![]() | ||||||||
Package: ADAMgui |
Version: 1.6.0 |
Command: chmod a+r ADAMgui -R && C:\Users\biocbuild\bbs-3.12-bioc\R\bin\R.exe CMD build --keep-empty-dirs --no-resave-data ADAMgui |
StartedAt: 2021-02-21 19:29:32 -0500 (Sun, 21 Feb 2021) |
EndedAt: 2021-02-21 19:30:55 -0500 (Sun, 21 Feb 2021) |
EllapsedTime: 82.4 seconds |
RetCode: 0 |
Status: OK |
PackageFile: ADAMgui_1.6.0.tar.gz |
PackageFileSize: 1.954 MiB |
############################################################################## ############################################################################## ### ### Running command: ### ### chmod a+r ADAMgui -R && C:\Users\biocbuild\bbs-3.12-bioc\R\bin\R.exe CMD build --keep-empty-dirs --no-resave-data ADAMgui ### ############################################################################## ############################################################################## * checking for file 'ADAMgui/DESCRIPTION' ... OK * preparing 'ADAMgui': * checking DESCRIPTION meta-information ... OK * installing the package to build vignettes * creating vignettes ... OK * checking for LF line-endings in source and make files and shell scripts * checking for empty or unneeded directories * looking to see if a 'data/datalist' file should be added * building 'ADAMgui_1.6.0.tar.gz'