Back to Multiple platform build/check report for BioC 3.12
AB[C]DEFGHIJKLMNOPQRSTUVWXYZ

CHECK report for CancerMutationAnalysis on merida1

This page was generated on 2020-08-07 12:26:43 -0400 (Fri, 07 Aug 2020).

TO THE DEVELOPERS/MAINTAINERS OF THE CancerMutationAnalysis PACKAGE: Please make sure to use the following settings in order to reproduce any error or warning you see on this page.
Package 220/1882HostnameOS / ArchINSTALLBUILDCHECKBUILD BIN
CancerMutationAnalysis 1.31.0
Simina M. Boca
Snapshot Date: 2020-08-06 14:50:46 -0400 (Thu, 06 Aug 2020)
URL: https://git.bioconductor.org/packages/CancerMutationAnalysis
Branch: master
Last Commit: 251c81e
Last Changed Date: 2020-04-27 14:29:21 -0400 (Mon, 27 Apr 2020)
malbec1 Linux (Ubuntu 18.04.4 LTS) / x86_64  OK  OK  OK UNNEEDED, same version exists in internal repository
tokay1 Windows Server 2012 R2 Standard / x64  OK  OK  OK  OK UNNEEDED, same version exists in internal repository
merida1 macOS 10.14.6 Mojave / x86_64  OK  OK [ OK ] OK UNNEEDED, same version exists in internal repository

Summary

Package: CancerMutationAnalysis
Version: 1.31.0
Command: /Library/Frameworks/R.framework/Versions/Current/Resources/bin/R CMD check --install=check:CancerMutationAnalysis.install-out.txt --library=/Library/Frameworks/R.framework/Versions/Current/Resources/library --no-vignettes --timings CancerMutationAnalysis_1.31.0.tar.gz
StartedAt: 2020-08-06 23:42:16 -0400 (Thu, 06 Aug 2020)
EndedAt: 2020-08-06 23:45:48 -0400 (Thu, 06 Aug 2020)
EllapsedTime: 212.7 seconds
RetCode: 0
Status:  OK 
CheckDir: CancerMutationAnalysis.Rcheck
Warnings: 0

Command output

##############################################################################
##############################################################################
###
### Running command:
###
###   /Library/Frameworks/R.framework/Versions/Current/Resources/bin/R CMD check --install=check:CancerMutationAnalysis.install-out.txt --library=/Library/Frameworks/R.framework/Versions/Current/Resources/library --no-vignettes --timings CancerMutationAnalysis_1.31.0.tar.gz
###
##############################################################################
##############################################################################


* using log directory ‘/Users/biocbuild/bbs-3.12-bioc/meat/CancerMutationAnalysis.Rcheck’
* using R version 4.0.2 (2020-06-22)
* using platform: x86_64-apple-darwin17.0 (64-bit)
* using session charset: UTF-8
* using option ‘--no-vignettes’
* checking for file ‘CancerMutationAnalysis/DESCRIPTION’ ... OK
* checking extension type ... Package
* this is package ‘CancerMutationAnalysis’ version ‘1.31.0’
* checking package namespace information ... OK
* checking package dependencies ... OK
* checking if this is a source package ... OK
* checking if there is a namespace ... OK
* checking for hidden files and directories ... OK
* checking for portable file names ... OK
* checking for sufficient/correct file permissions ... OK
* checking whether package ‘CancerMutationAnalysis’ can be installed ... OK
* checking installed package size ... NOTE
  installed size is  8.7Mb
  sub-directories of 1Mb or more:
    data   8.2Mb
* checking package directory ... OK
* checking ‘build’ directory ... OK
* checking DESCRIPTION meta-information ... NOTE
License components with restrictions not permitted:
  GPL (>= 2) + file LICENSE
* checking top-level files ... OK
* checking for left-over files ... OK
* checking index information ... OK
* checking package subdirectories ... OK
* checking R files for non-ASCII characters ... OK
* checking R files for syntax errors ... OK
* checking whether the package can be loaded ... OK
* checking whether the package can be loaded with stated dependencies ... OK
* checking whether the package can be unloaded cleanly ... OK
* checking whether the namespace can be loaded with stated dependencies ... OK
* checking whether the namespace can be unloaded cleanly ... OK
* checking dependencies in R code ... NOTE
Package in Depends field not imported from: ‘qvalue’
  These packages need to be imported from (in the NAMESPACE file)
  for when this namespace is loaded but not attached.
* checking S3 generic/method consistency ... OK
* checking replacement functions ... OK
* checking foreign function calls ... OK
* checking R code for possible problems ... NOTE
ebfdr: no visible global function definition for ‘density’
ebfdr: no visible global function definition for ‘text’
ebfdr: no visible global function definition for ‘abline’
ebfdr: no visible global function definition for ‘rug’
ebfdr: no visible global function definition for ‘hist’
p2q: no visible global function definition for ‘qvalue’
perm.null.het.p.values: no visible global function definition for
  ‘dhyper’
perm.null.p.values: no visible global function definition for ‘dhyper’
Undefined global functions or variables:
  abline density dhyper hist qvalue rug text
Consider adding
  importFrom("graphics", "abline", "hist", "rug", "text")
  importFrom("stats", "density", "dhyper")
to your NAMESPACE file.
* checking Rd files ... OK
* checking Rd metadata ... OK
* checking Rd cross-references ... OK
* checking for missing documentation entries ... OK
* checking for code/documentation mismatches ... OK
* checking Rd \usage sections ... OK
* checking Rd contents ... OK
* checking for unstated dependencies in examples ... OK
* checking contents of ‘data’ directory ... OK
* checking data for non-ASCII characters ... OK
* checking data for ASCII and uncompressed saves ... OK
* checking line endings in C/C++/Fortran sources/headers ... OK
* checking compiled code ... NOTE
Note: information on .o files is not available
* checking sizes of PDF files under ‘inst/doc’ ... OK
* checking files in ‘vignettes’ ... OK
* checking examples ... OK
Examples with CPU (user + system) or elapsed time > 5s
              user system elapsed
cma.set.sim 41.036  2.406  43.518
cma.fdr     27.507  6.130  33.692
* checking for unstated dependencies in vignettes ... OK
* checking package vignettes in ‘inst/doc’ ... OK
* checking running R code from vignettes ... SKIPPED
* checking re-building of vignette outputs ... SKIPPED
* checking PDF version of manual ... OK
* DONE

Status: 5 NOTEs
See
  ‘/Users/biocbuild/bbs-3.12-bioc/meat/CancerMutationAnalysis.Rcheck/00check.log’
for details.



Installation output

CancerMutationAnalysis.Rcheck/00install.out

##############################################################################
##############################################################################
###
### Running command:
###
###   /Library/Frameworks/R.framework/Versions/Current/Resources/bin/R CMD INSTALL CancerMutationAnalysis
###
##############################################################################
##############################################################################


* installing to library ‘/Library/Frameworks/R.framework/Versions/4.0/Resources/library’
* installing *source* package ‘CancerMutationAnalysis’ ...
** using staged installation
** libs
clang -mmacosx-version-min=10.13 -I"/Library/Frameworks/R.framework/Resources/include" -DNDEBUG   -I/usr/local/include   -fPIC  -Wall -g -O2  -c get.cdf.het.berns.c -o get.cdf.het.berns.o
clang -mmacosx-version-min=10.13 -dynamiclib -Wl,-headerpad_max_install_names -undefined dynamic_lookup -single_module -multiply_defined suppress -L/Library/Frameworks/R.framework/Resources/lib -L/usr/local/lib -o CancerMutationAnalysis.so get.cdf.het.berns.o -F/Library/Frameworks/R.framework/.. -framework R -Wl,-framework -Wl,CoreFoundation
installing to /Library/Frameworks/R.framework/Versions/4.0/Resources/library/00LOCK-CancerMutationAnalysis/00new/CancerMutationAnalysis/libs
** R
** data
** inst
** byte-compile and prepare package for lazy loading
** help
*** installing help indices
** building package indices
** installing vignettes
** testing if installed package can be loaded from temporary location
** checking absolute paths in shared objects and dynamic libraries
** testing if installed package can be loaded from final location
** testing if installed package keeps a record of temporary installation path
* DONE (CancerMutationAnalysis)

Tests output


Example timings

CancerMutationAnalysis.Rcheck/CancerMutationAnalysis-Ex.timings

nameusersystemelapsed
cma.fdr27.507 6.13033.692
cma.scores0.5980.0060.606
cma.set.sim41.036 2.40643.518
cma.set.stat2.1800.0442.227
combine.sims000
extract.sims.method000