Back to Multiple platform build/check report for BioC 3.12
AB[C]DEFGHIJKLMNOPQRSTUVWXYZ

BUILD BIN report for CAMERA on tokay1

This page was generated on 2020-08-10 12:12:09 -0400 (Mon, 10 Aug 2020).

TO THE DEVELOPERS/MAINTAINERS OF THE CAMERA PACKAGE: Please make sure to use the following settings in order to reproduce any error or warning you see on this page.
Package 216/1882HostnameOS / ArchINSTALLBUILDCHECKBUILD BIN
CAMERA 1.45.1
Steffen Neumann
Snapshot Date: 2020-08-09 14:51:29 -0400 (Sun, 09 Aug 2020)
URL: https://git.bioconductor.org/packages/CAMERA
Branch: master
Last Commit: 45384c6
Last Changed Date: 2020-06-02 05:43:49 -0400 (Tue, 02 Jun 2020)
malbec1 Linux (Ubuntu 18.04.4 LTS) / x86_64  OK  OK  WARNINGS UNNEEDED, same version exists in internal repository
nebbiolo1 Linux (Ubuntu 20.04.1 LTS) / x86_64  OK  OK  WARNINGS 
tokay1 Windows Server 2012 R2 Standard / x64  OK  OK  WARNINGS [ OK ]UNNEEDED, same version exists in internal repository
merida1 macOS 10.14.6 Mojave / x86_64  OK  OK  WARNINGS  OK UNNEEDED, same version exists in internal repository

Summary

Package: CAMERA
Version: 1.45.1
Command: rm -rf CAMERA.buildbin-libdir && mkdir CAMERA.buildbin-libdir && C:\Users\biocbuild\bbs-3.12-bioc\R\bin\R.exe CMD INSTALL --merge-multiarch --build --library=CAMERA.buildbin-libdir CAMERA_1.45.1.tar.gz
StartedAt: 2020-08-10 07:08:41 -0400 (Mon, 10 Aug 2020)
EndedAt: 2020-08-10 07:10:24 -0400 (Mon, 10 Aug 2020)
EllapsedTime: 102.9 seconds
RetCode: 0
Status:  OK  
PackageFile: CAMERA_1.45.1.zip
PackageFileSize: 2.895 MiB

Command output

##############################################################################
##############################################################################
###
### Running command:
###
###   rm -rf CAMERA.buildbin-libdir && mkdir CAMERA.buildbin-libdir && C:\Users\biocbuild\bbs-3.12-bioc\R\bin\R.exe CMD INSTALL --merge-multiarch --build --library=CAMERA.buildbin-libdir CAMERA_1.45.1.tar.gz
###
##############################################################################
##############################################################################



install for i386

* installing *source* package 'CAMERA' ...
** using staged installation
** libs
"C:/rtools40/mingw32/bin/"gcc  -I"C:/Users/BIOCBU~1/BBS-3~1.12-/R/include" -DNDEBUG     -I"C:/extsoft/include"     -O2 -Wall  -std=gnu99 -mfpmath=sse -msse2 -mstackrealign -c fastMatch.c -o fastMatch.o
C:/rtools40/mingw32/bin/gcc -shared -s -static-libgcc -o CAMERA.dll tmp.def fastMatch.o -LC:/extsoft/lib/i386 -LC:/extsoft/lib -LC:/Users/BIOCBU~1/BBS-3~1.12-/R/bin/i386 -lR
installing to C:/Users/biocbuild/bbs-3.12-bioc/meat/CAMERA.buildbin-libdir/00LOCK-CAMERA/00new/CAMERA/libs/i386
** R
** data
** inst
** byte-compile and prepare package for lazy loading
Warning: replacing previous import 'xcms::plot' by 'graphics::plot' when loading 'CAMERA'
** help
*** installing help indices
  converting help for package 'CAMERA'
    finding HTML links ... done
    annotate-methods                        html  
    annotateDiffreport                      html  
    finding level-2 HTML links ... done

    calcCaS-methods                         html  
    calcCiS-methods                         html  
    calcIsotopes-methods                    html  
    calcPC-methods                          html  
    calcPC.hcs-methods                      html  
    calcPC.lpc-methods                      html  
    cleanParallel                           html  
    combinexsAnnos                          html  
    compoundLibraries                       html  
    compoundQuantiles-class                 html  
    compoundQuantiles                       html  
    findAdducts-methods                     html  
    findIsotopes-methods                    html  
    findIsotopesWithValidation-methods      html  
    findKendrickMasses                      html  
    findNeutralLoss                         html  
    findNeutralLossSpecs                    html  
    getAllPeakEICs-methods                  html  
    getAtomCount-compoundQuantiles-method   html  
    getIsotopeCluster                       html  
    getIsotopeProportion-compoundQuantiles-method
                                            html  
    getPeaklist-methods                     html  
    getReducedPeaklist-methods              html  
    getpspectra                             html  
    groupCorr-methods                       html  
    groupDen-methods                        html  
    groupFWHM-methods                       html  
    massWindowSizes                         html  
    mm14                                    html  
    plotEIC.xsAnnotate                      html  
    plotPsSpectrum.xsAnnotate               html  
    psDist-methods                          html  
    pspec2metfrag                           html  
    ruleSet-class                           html  
    xsAnnotate-class                        html  
    xsAnnotate                              html  
** building package indices
** installing vignettes
** testing if installed package can be loaded from temporary location
Warning: replacing previous import 'xcms::plot' by 'graphics::plot' when loading 'CAMERA'
** testing if installed package can be loaded from final location
Warning: replacing previous import 'xcms::plot' by 'graphics::plot' when loading 'CAMERA'
** testing if installed package keeps a record of temporary installation path

install for x64

* installing *source* package 'CAMERA' ...
** libs
"C:/rtools40/mingw64/bin/"gcc  -I"C:/Users/BIOCBU~1/BBS-3~1.12-/R/include" -DNDEBUG     -I"C:/extsoft/include"     -O2 -Wall  -std=gnu99 -mfpmath=sse -msse2 -mstackrealign -c fastMatch.c -o fastMatch.o
C:/rtools40/mingw64/bin/gcc -shared -s -static-libgcc -o CAMERA.dll tmp.def fastMatch.o -LC:/extsoft/lib/x64 -LC:/extsoft/lib -LC:/Users/BIOCBU~1/BBS-3~1.12-/R/bin/x64 -lR
installing to C:/Users/biocbuild/bbs-3.12-bioc/meat/CAMERA.buildbin-libdir/CAMERA/libs/x64
** testing if installed package can be loaded
Warning: replacing previous import 'xcms::plot' by 'graphics::plot' when loading 'CAMERA'
* MD5 sums
packaged installation of 'CAMERA' as CAMERA_1.45.1.zip
* DONE (CAMERA)