Back to Multiple platform build/check report for BioC 3.12
[A]BCDEFGHIJKLMNOPQRSTUVWXYZ

INSTALL report for artMS on malbec1

This page was generated on 2020-08-07 11:39:19 -0400 (Fri, 07 Aug 2020).

TO THE DEVELOPERS/MAINTAINERS OF THE artMS PACKAGE: Please make sure to use the following settings in order to reproduce any error or warning you see on this page.
Package 83/1882HostnameOS / ArchINSTALLBUILDCHECKBUILD BIN
artMS 1.7.5
David Jimenez-Morales
Snapshot Date: 2020-08-06 14:50:46 -0400 (Thu, 06 Aug 2020)
URL: https://git.bioconductor.org/packages/artMS
Branch: master
Last Commit: 4ab9bd7
Last Changed Date: 2020-05-21 01:16:54 -0400 (Thu, 21 May 2020)
malbec1 Linux (Ubuntu 18.04.4 LTS) / x86_64 [ OK ] OK  WARNINGS UNNEEDED, same version exists in internal repository
tokay1 Windows Server 2012 R2 Standard / x64  OK  OK  WARNINGS  OK UNNEEDED, same version exists in internal repository
merida1 macOS 10.14.6 Mojave / x86_64  OK  OK  WARNINGS  OK UNNEEDED, same version exists in internal repository

Summary

Package: artMS
Version: 1.7.5
Command: /home/biocbuild/bbs-3.12-bioc/R/bin/R CMD INSTALL artMS
StartedAt: 2020-08-06 16:38:08 -0400 (Thu, 06 Aug 2020)
EndedAt: 2020-08-06 16:38:43 -0400 (Thu, 06 Aug 2020)
EllapsedTime: 34.3 seconds
RetCode: 0
Status:  OK 

Command output

##############################################################################
##############################################################################
###
### Running command:
###
###   /home/biocbuild/bbs-3.12-bioc/R/bin/R CMD INSTALL artMS
###
##############################################################################
##############################################################################


* installing to library ‘/home/biocbuild/bbs-3.12-bioc/R/library’
* installing *source* package ‘artMS’ ...
** using staged installation
** R
** data
*** moving datasets to lazyload DB
** inst
** byte-compile and prepare package for lazy loading
Warning: replacing previous import ‘ComplexHeatmap::pheatmap’ by ‘pheatmap::pheatmap’ when loading ‘artMS’
** help
*** installing help indices
** building package indices
** installing vignettes
** testing if installed package can be loaded from temporary location
Warning: replacing previous import ‘ComplexHeatmap::pheatmap’ by ‘pheatmap::pheatmap’ when loading ‘artMS’
** testing if installed package can be loaded from final location
Warning: replacing previous import ‘ComplexHeatmap::pheatmap’ by ‘pheatmap::pheatmap’ when loading ‘artMS’
** testing if installed package keeps a record of temporary installation path
* DONE (artMS)