Back to Multiple platform build/check report for BioC 3.12
ABCDEFGHIJKLMNOPQ[R]STUVWXYZ

BUILD report for rTRM on tokay1

This page was generated on 2021-01-19 11:56:21 -0500 (Tue, 19 Jan 2021).

TO THE DEVELOPERS/MAINTAINERS OF THE rTRM PACKAGE: Please make sure to use the following settings in order to reproduce any error or warning you see on this page.
Package 1600/1974HostnameOS / ArchINSTALLBUILDCHECKBUILD BIN
rTRM 1.28.0
Diego Diez
Snapshot Date: 2021-01-18 14:42:24 -0500 (Mon, 18 Jan 2021)
URL: https://git.bioconductor.org/packages/rTRM
Branch: RELEASE_3_12
Last Commit: 2908ebc
Last Changed Date: 2020-10-27 10:51:24 -0500 (Tue, 27 Oct 2020)
malbec1 Linux (Ubuntu 18.04.5 LTS) / x86_64  OK  OK  OK UNNEEDED, same version exists in internal repository
nebbiolo1 Linux (Ubuntu 20.04.1 LTS) / x86_64  OK  OK  OK 
tokay1 Windows Server 2012 R2 Standard / x64  OK [ OK ] OK  OK UNNEEDED, same version exists in internal repository
merida1 macOS 10.14.6 Mojave / x86_64  OK  OK  OK  OK UNNEEDED, same version exists in internal repository

Summary

Package: rTRM
Version: 1.28.0
Command: chmod a+r rTRM -R && C:\Users\biocbuild\bbs-3.12-bioc\R\bin\R.exe CMD build --keep-empty-dirs --no-resave-data rTRM
StartedAt: 2021-01-18 23:18:00 -0500 (Mon, 18 Jan 2021)
EndedAt: 2021-01-18 23:20:39 -0500 (Mon, 18 Jan 2021)
EllapsedTime: 159.3 seconds
RetCode: 0
Status:  OK  
PackageFile: rTRM_1.28.0.tar.gz
PackageFileSize: 3.175 MiB

Command output

##############################################################################
##############################################################################
###
### Running command:
###
###   chmod a+r rTRM -R && C:\Users\biocbuild\bbs-3.12-bioc\R\bin\R.exe CMD build --keep-empty-dirs --no-resave-data rTRM
###
##############################################################################
##############################################################################


* checking for file 'rTRM/DESCRIPTION' ... OK
* preparing 'rTRM':
* checking DESCRIPTION meta-information ... OK
* installing the package to process help pages
* building the PDF package manual
Hmm ... looks like a package
Converting Rd files to LaTeX Loading required package: igraph

Attaching package: 'igraph'

The following objects are masked from 'package:stats':

    decompose, spectrum

The following object is masked from 'package:base':

    union

...
Creating pdf output from LaTeX ...
Saving output to 'C:/Users/biocbuild/bbs-3.12-bioc/tmpdir/RtmpwD7yzL/Rbuild6b835b93467/rTRM/build/rTRM.pdf' ...
Done
* creating vignettes ... OK
* checking for LF line-endings in source and make files and shell scripts
* checking for empty or unneeded directories
* looking to see if a 'data/datalist' file should be added
* building 'rTRM_1.28.0.tar.gz'