Back to Multiple platform build/check report for BioC 3.12
AB[C]DEFGHIJKLMNOPQRSTUVWXYZ

BUILD report for chipseq on merida1

This page was generated on 2020-08-13 11:49:16 -0400 (Thu, 13 Aug 2020).

TO THE DEVELOPERS/MAINTAINERS OF THE chipseq PACKAGE: Please make sure to use the following settings in order to reproduce any error or warning you see on this page.
Package 277/1885HostnameOS / ArchINSTALLBUILDCHECKBUILD BIN
chipseq 1.39.0
Bioconductor Package Maintainer
Snapshot Date: 2020-08-12 14:52:00 -0400 (Wed, 12 Aug 2020)
URL: https://git.bioconductor.org/packages/chipseq
Branch: master
Last Commit: 5ce3042
Last Changed Date: 2020-04-27 14:19:32 -0400 (Mon, 27 Apr 2020)
malbec1 Linux (Ubuntu 18.04.4 LTS) / x86_64  OK  OK  WARNINGS UNNEEDED, same version exists in internal repository
nebbiolo1 Linux (Ubuntu 20.04.1 LTS) / x86_64  OK  OK  WARNINGS 
tokay1 Windows Server 2012 R2 Standard / x64  OK  OK  WARNINGS  OK UNNEEDED, same version exists in internal repository
merida1 macOS 10.14.6 Mojave / x86_64  OK [ OK ] WARNINGS  OK UNNEEDED, same version exists in internal repository

Summary

Package: chipseq
Version: 1.39.0
Command: /Library/Frameworks/R.framework/Versions/Current/Resources/bin/R CMD build --keep-empty-dirs --no-resave-data chipseq
StartedAt: 2020-08-12 18:15:29 -0400 (Wed, 12 Aug 2020)
EndedAt: 2020-08-12 18:18:13 -0400 (Wed, 12 Aug 2020)
EllapsedTime: 163.4 seconds
RetCode: 0
Status:  OK 
PackageFile: chipseq_1.39.0.tar.gz
PackageFileSize: 2.141 MiB

Command output

##############################################################################
##############################################################################
###
### Running command:
###
###   /Library/Frameworks/R.framework/Versions/Current/Resources/bin/R CMD build --keep-empty-dirs --no-resave-data chipseq
###
##############################################################################
##############################################################################


* checking for file ‘chipseq/DESCRIPTION’ ... OK
* preparing ‘chipseq’:
* checking DESCRIPTION meta-information ... OK
* cleaning src
* installing the package to build vignettes
* creating vignettes ... OK
* cleaning src
* checking for LF line-endings in source and make files and shell scripts
* checking for empty or unneeded directories
WARNING: directory ‘chipseq/inst/Scripts/figs’ is empty
* looking to see if a ‘data/datalist’ file should be added
* building ‘chipseq_1.39.0.tar.gz’