Back to Multiple platform build/check report for BioC 3.12
[A]BCDEFGHIJKLMNOPQRSTUVWXYZ

BUILD BIN report for AnnotationHub on tokay1

This page was generated on 2020-10-24 11:01:04 -0400 (Sat, 24 Oct 2020).

TO THE DEVELOPERS/MAINTAINERS OF THE AnnotationHub PACKAGE: Please make sure to use the following settings in order to reproduce any error or warning you see on this page.
Package 66/1974HostnameOS / ArchINSTALLBUILDCHECKBUILD BIN
AnnotationHub 2.21.6
Bioconductor Package Maintainer
Snapshot Date: 2020-10-23 14:40:36 -0400 (Fri, 23 Oct 2020)
URL: https://git.bioconductor.org/packages/AnnotationHub
Branch: master
Last Commit: 90ae93f
Last Changed Date: 2020-10-19 12:58:54 -0400 (Mon, 19 Oct 2020)
malbec1 Linux (Ubuntu 18.04.4 LTS) / x86_64  OK  OK  WARNINGS UNNEEDED, same version exists in internal repository
nebbiolo1 Linux (Ubuntu 20.04.1 LTS) / x86_64  OK  OK  WARNINGS 
tokay1 Windows Server 2012 R2 Standard / x64  OK  OK  WARNINGS [ OK ]UNNEEDED, same version exists in internal repository
riesling1 Windows Server 2019 Standard / x64  OK  OK  WARNINGS  OK 
merida1 macOS 10.14.6 Mojave / x86_64  OK  OK  WARNINGS  OK UNNEEDED, same version exists in internal repository

Summary

Package: AnnotationHub
Version: 2.21.6
Command: rm -rf AnnotationHub.buildbin-libdir && mkdir AnnotationHub.buildbin-libdir && C:\Users\biocbuild\bbs-3.12-bioc\R\bin\R.exe CMD INSTALL --merge-multiarch --build --library=AnnotationHub.buildbin-libdir AnnotationHub_2.21.6.tar.gz
StartedAt: 2020-10-24 08:46:40 -0400 (Sat, 24 Oct 2020)
EndedAt: 2020-10-24 08:47:30 -0400 (Sat, 24 Oct 2020)
EllapsedTime: 50.1 seconds
RetCode: 0
Status:  OK  
PackageFile: AnnotationHub_2.21.6.zip
PackageFileSize: 1.412 MiB

Command output

##############################################################################
##############################################################################
###
### Running command:
###
###   rm -rf AnnotationHub.buildbin-libdir && mkdir AnnotationHub.buildbin-libdir && C:\Users\biocbuild\bbs-3.12-bioc\R\bin\R.exe CMD INSTALL --merge-multiarch --build --library=AnnotationHub.buildbin-libdir AnnotationHub_2.21.6.tar.gz
###
##############################################################################
##############################################################################



install for i386

* installing *source* package 'AnnotationHub' ...
** using staged installation
** R
** inst
** byte-compile and prepare package for lazy loading
** help
*** installing help indices
  converting help for package 'AnnotationHub'
    finding HTML links ... done
    AnnotationHub-class                     html  
    AnnotationHub-package                   html  
    AnnotationHubResource-class             html  
    Hub-utils                               html  
    convertHub                              html  
    getAnnotationHubOption                  html  
    listResources                           html  
    utils                                   html  
** building package indices
** installing vignettes
** testing if installed package can be loaded from temporary location
** testing if installed package can be loaded from final location
** testing if installed package keeps a record of temporary installation path

install for x64

* installing *source* package 'AnnotationHub' ...
** testing if installed package can be loaded
* MD5 sums
packaged installation of 'AnnotationHub' as AnnotationHub_2.21.6.zip
* DONE (AnnotationHub)