Back to Multiple platform build/check report for BioC 3.12
AB[C]DEFGHIJKLMNOPQRSTUVWXYZ

BUILD BIN report for cbaf on merida1

This page was generated on 2020-08-07 12:37:16 -0400 (Fri, 07 Aug 2020).

TO THE DEVELOPERS/MAINTAINERS OF THE cbaf PACKAGE: Please make sure to use the following settings in order to reproduce any error or warning you see on this page.
Package 231/1882HostnameOS / ArchINSTALLBUILDCHECKBUILD BIN
cbaf 1.11.1
Arman Shahrisa
Snapshot Date: 2020-08-06 14:50:46 -0400 (Thu, 06 Aug 2020)
URL: https://git.bioconductor.org/packages/cbaf
Branch: master
Last Commit: f400891
Last Changed Date: 2020-05-05 12:31:17 -0400 (Tue, 05 May 2020)
malbec1 Linux (Ubuntu 18.04.4 LTS) / x86_64  OK  OK  OK UNNEEDED, same version exists in internal repository
tokay1 Windows Server 2012 R2 Standard / x64  ERROR  OK  ERROR  ERROR 
merida1 macOS 10.14.6 Mojave / x86_64  OK  OK  OK [ OK ]UNNEEDED, same version exists in internal repository

Summary

Package: cbaf
Version: 1.11.1
Command: rm -rf cbaf.buildbin-libdir && mkdir cbaf.buildbin-libdir && /Users/biocbuild/BBS/utils/build-universal.sh cbaf_1.11.1.tar.gz /Library/Frameworks/R.framework/Versions/Current/Resources/bin/R cbaf.buildbin-libdir
StartedAt: 2020-08-07 07:25:32 -0400 (Fri, 07 Aug 2020)
EndedAt: 2020-08-07 07:26:17 -0400 (Fri, 07 Aug 2020)
EllapsedTime: 44.7 seconds
RetCode: 0
Status:  OK 
PackageFile: cbaf_1.11.1.tgz
PackageFileSize: 878.1 KiB

Command output

##############################################################################
##############################################################################
###
### Running command:
###
###   rm -rf cbaf.buildbin-libdir && mkdir cbaf.buildbin-libdir && /Users/biocbuild/BBS/utils/build-universal.sh cbaf_1.11.1.tar.gz /Library/Frameworks/R.framework/Versions/Current/Resources/bin/R cbaf.buildbin-libdir
###
##############################################################################
##############################################################################


>>>>>>> 
>>>>>>> INSTALLATION WITH 'R CMD INSTALL --preclean --no-multiarch --library=cbaf.buildbin-libdir cbaf_1.11.1.tar.gz'
>>>>>>> 

* installing *source* package ‘cbaf’ ...
** using staged installation
** R
** inst
** byte-compile and prepare package for lazy loading
** help
*** installing help indices
** building package indices
** installing vignettes
** testing if installed package can be loaded from temporary location
** testing if installed package can be loaded from final location
** testing if installed package keeps a record of temporary installation path
* DONE (cbaf)