Back to Multiple platform build/check report for BioC 3.12
A[B]CDEFGHIJKLMNOPQRSTUVWXYZ

BUILD BIN report for BEclear on merida1

This page was generated on 2020-08-13 11:53:35 -0400 (Thu, 13 Aug 2020).

TO THE DEVELOPERS/MAINTAINERS OF THE BEclear PACKAGE: Please make sure to use the following settings in order to reproduce any error or warning you see on this page.
Package 131/1885HostnameOS / ArchINSTALLBUILDCHECKBUILD BIN
BEclear 2.5.0
David Rasp
Snapshot Date: 2020-08-12 14:52:00 -0400 (Wed, 12 Aug 2020)
URL: https://git.bioconductor.org/packages/BEclear
Branch: master
Last Commit: 89d633c
Last Changed Date: 2020-05-05 03:54:26 -0400 (Tue, 05 May 2020)
malbec1 Linux (Ubuntu 18.04.4 LTS) / x86_64  OK  OK  WARNINGS UNNEEDED, same version exists in internal repository
nebbiolo1 Linux (Ubuntu 20.04.1 LTS) / x86_64  OK  OK  WARNINGS 
tokay1 Windows Server 2012 R2 Standard / x64  OK  OK  WARNINGS  OK UNNEEDED, same version exists in internal repository
merida1 macOS 10.14.6 Mojave / x86_64  OK  OK  WARNINGS [ OK ]UNNEEDED, same version exists in internal repository

Summary

Package: BEclear
Version: 2.5.0
Command: rm -rf BEclear.buildbin-libdir && mkdir BEclear.buildbin-libdir && /Users/biocbuild/BBS/utils/build-universal.sh BEclear_2.5.0.tar.gz /Library/Frameworks/R.framework/Versions/Current/Resources/bin/R BEclear.buildbin-libdir
StartedAt: 2020-08-13 07:24:48 -0400 (Thu, 13 Aug 2020)
EndedAt: 2020-08-13 07:25:42 -0400 (Thu, 13 Aug 2020)
EllapsedTime: 54.0 seconds
RetCode: 0
Status:  OK 
PackageFile: BEclear_2.5.0.tgz
PackageFileSize: 622.8 KiB

Command output

##############################################################################
##############################################################################
###
### Running command:
###
###   rm -rf BEclear.buildbin-libdir && mkdir BEclear.buildbin-libdir && /Users/biocbuild/BBS/utils/build-universal.sh BEclear_2.5.0.tar.gz /Library/Frameworks/R.framework/Versions/Current/Resources/bin/R BEclear.buildbin-libdir
###
##############################################################################
##############################################################################


>>>>>>> 
>>>>>>> INSTALLATION WITH 'R CMD INSTALL --preclean --no-multiarch --library=BEclear.buildbin-libdir BEclear_2.5.0.tar.gz'
>>>>>>> 

* installing *source* package ‘BEclear’ ...
** using staged installation
** libs
clang++ -mmacosx-version-min=10.13 -std=gnu++11 -I"/Library/Frameworks/R.framework/Resources/include" -DNDEBUG  -I'/Library/Frameworks/R.framework/Versions/4.0/Resources/library/Rcpp/include' -I/usr/local/include   -fPIC  -Wall -g -O2  -c RcppExports.cpp -o RcppExports.o
clang++ -mmacosx-version-min=10.13 -std=gnu++11 -I"/Library/Frameworks/R.framework/Resources/include" -DNDEBUG  -I'/Library/Frameworks/R.framework/Versions/4.0/Resources/library/Rcpp/include' -I/usr/local/include   -fPIC  -Wall -g -O2  -c localLoss.cpp -o localLoss.o
clang++ -mmacosx-version-min=10.13 -std=gnu++11 -dynamiclib -Wl,-headerpad_max_install_names -undefined dynamic_lookup -single_module -multiply_defined suppress -L/Library/Frameworks/R.framework/Resources/lib -L/usr/local/lib -o BEclear.so RcppExports.o localLoss.o -F/Library/Frameworks/R.framework/.. -framework R -Wl,-framework -Wl,CoreFoundation
installing to /Users/biocbuild/bbs-3.12-bioc/meat/BEclear.buildbin-libdir/00LOCK-BEclear/00new/BEclear/libs
** R
** data
** inst
** byte-compile and prepare package for lazy loading
** help
*** installing help indices
** building package indices
** installing vignettes
** testing if installed package can be loaded from temporary location
** checking absolute paths in shared objects and dynamic libraries
** testing if installed package can be loaded from final location
** testing if installed package keeps a record of temporary installation path
* DONE (BEclear)


>>>>>>> 
>>>>>>> FIXING LINKS FOR BEclear.buildbin-libdir/BEclear/libs/BEclear.so
>>>>>>> 

install_name_tool -change "/usr/local/lib/libgcc_s.1.dylib" "/Library/Frameworks/R.framework/Versions/4.0/Resources/lib/libgcc_s.1.dylib" "BEclear.buildbin-libdir/BEclear/libs/BEclear.so"
install_name_tool -change "/usr/local/lib/libgfortran.5.dylib" "/Library/Frameworks/R.framework/Versions/4.0/Resources/lib/libgfortran.5.dylib" "BEclear.buildbin-libdir/BEclear/libs/BEclear.so"
install_name_tool -change "/usr/local/lib/libquadmath.0.dylib" "/Library/Frameworks/R.framework/Versions/4.0/Resources/lib/libquadmath.0.dylib" "BEclear.buildbin-libdir/BEclear/libs/BEclear.so"