Back to Multiple platform build/check report for BioC 3.12
AB[C]DEFGHIJKLMNOPQRSTUVWXYZ

BUILD report for CEMiTool on tokay1

This page was generated on 2020-08-07 12:12:27 -0400 (Fri, 07 Aug 2020).

TO THE DEVELOPERS/MAINTAINERS OF THE CEMiTool PACKAGE: Please make sure to use the following settings in order to reproduce any error or warning you see on this page.
Package 250/1882HostnameOS / ArchINSTALLBUILDCHECKBUILD BIN
CEMiTool 1.13.1
Helder Nakaya
Snapshot Date: 2020-08-06 14:50:46 -0400 (Thu, 06 Aug 2020)
URL: https://git.bioconductor.org/packages/CEMiTool
Branch: master
Last Commit: 18c5654
Last Changed Date: 2020-07-02 12:14:01 -0400 (Thu, 02 Jul 2020)
malbec1 Linux (Ubuntu 18.04.4 LTS) / x86_64  OK  OK  OK UNNEEDED, same version exists in internal repository
tokay1 Windows Server 2012 R2 Standard / x64  OK [ OK ] OK  OK UNNEEDED, same version exists in internal repository
merida1 macOS 10.14.6 Mojave / x86_64  OK  OK  OK  OK UNNEEDED, same version exists in internal repository

Summary

Package: CEMiTool
Version: 1.13.1
Command: chmod a+r CEMiTool -R && C:\Users\biocbuild\bbs-3.12-bioc\R\bin\R.exe CMD build --keep-empty-dirs --no-resave-data CEMiTool
StartedAt: 2020-08-06 21:45:51 -0400 (Thu, 06 Aug 2020)
EndedAt: 2020-08-06 21:47:42 -0400 (Thu, 06 Aug 2020)
EllapsedTime: 111.5 seconds
RetCode: 0
Status:  OK  
PackageFile: CEMiTool_1.13.1.tar.gz
PackageFileSize: 4.538 MiB

Command output

##############################################################################
##############################################################################
###
### Running command:
###
###   chmod a+r CEMiTool -R && C:\Users\biocbuild\bbs-3.12-bioc\R\bin\R.exe CMD build --keep-empty-dirs --no-resave-data CEMiTool
###
##############################################################################
##############################################################################


* checking for file 'CEMiTool/DESCRIPTION' ... OK
* preparing 'CEMiTool':
* checking DESCRIPTION meta-information ... OK
* installing the package to build vignettes
* creating vignettes ... OK
* checking for LF line-endings in source and make files and shell scripts
* checking for empty or unneeded directories
* building 'CEMiTool_1.13.1.tar.gz'