Back to Multiple platform build/check report for BioC 3.12
[A]BCDEFGHIJKLMNOPQRSTUVWXYZ

BUILD report for ArrayExpressHTS on merida1

This page was generated on 2020-08-11 11:53:38 -0400 (Tue, 11 Aug 2020).

TO THE DEVELOPERS/MAINTAINERS OF THE ArrayExpressHTS PACKAGE: Please make sure to use the following settings in order to reproduce any error or warning you see on this page.
Package 76/1885HostnameOS / ArchINSTALLBUILDCHECKBUILD BIN
ArrayExpressHTS 1.39.1
Angela Goncalves , Andrew Tikhonov
Snapshot Date: 2020-08-10 14:50:56 -0400 (Mon, 10 Aug 2020)
URL: https://git.bioconductor.org/packages/ArrayExpressHTS
Branch: master
Last Commit: 6fd6f54
Last Changed Date: 2020-07-14 16:00:40 -0400 (Tue, 14 Jul 2020)
malbec1 Linux (Ubuntu 18.04.4 LTS) / x86_64  OK  OK  WARNINGS UNNEEDED, same version exists in internal repository
nebbiolo1 Linux (Ubuntu 20.04.1 LTS) / x86_64  OK  OK  NA 
tokay1 Windows Server 2012 R2 Standard / x64 ...NOT SUPPORTED...
merida1 macOS 10.14.6 Mojave / x86_64  OK [ OK ] OK  OK UNNEEDED, same version exists in internal repository

Summary

Package: ArrayExpressHTS
Version: 1.39.1
Command: /Library/Frameworks/R.framework/Versions/Current/Resources/bin/R CMD build --keep-empty-dirs --no-resave-data ArrayExpressHTS
StartedAt: 2020-08-10 18:35:53 -0400 (Mon, 10 Aug 2020)
EndedAt: 2020-08-10 18:37:10 -0400 (Mon, 10 Aug 2020)
EllapsedTime: 76.3 seconds
RetCode: 0
Status:  OK 
PackageFile: ArrayExpressHTS_1.39.1.tar.gz
PackageFileSize: 392.5 KiB

Command output

##############################################################################
##############################################################################
###
### Running command:
###
###   /Library/Frameworks/R.framework/Versions/Current/Resources/bin/R CMD build --keep-empty-dirs --no-resave-data ArrayExpressHTS
###
##############################################################################
##############################################################################


* checking for file ‘ArrayExpressHTS/DESCRIPTION’ ... OK
* preparing ‘ArrayExpressHTS’:
* checking DESCRIPTION meta-information ... OK
* cleaning src
* installing the package to build vignettes
* creating vignettes ... OK
* cleaning src
* checking for LF line-endings in source and make files and shell scripts
* checking for empty or unneeded directories
* building ‘ArrayExpressHTS_1.39.1.tar.gz’