Back to Multiple platform build/check report for BioC 3.12
AB[C]DEFGHIJKLMNOPQRSTUVWXYZ

INSTALL report for ChAMP on malbec1

This page was generated on 2020-08-10 11:38:02 -0400 (Mon, 10 Aug 2020).

TO THE DEVELOPERS/MAINTAINERS OF THE ChAMP PACKAGE: Please make sure to use the following settings in order to reproduce any error or warning you see on this page.
Package 261/1882HostnameOS / ArchINSTALLBUILDCHECKBUILD BIN
ChAMP 2.19.3
Yuan Tian
Snapshot Date: 2020-08-09 14:51:29 -0400 (Sun, 09 Aug 2020)
URL: https://git.bioconductor.org/packages/ChAMP
Branch: master
Last Commit: d524139
Last Changed Date: 2020-05-28 07:35:49 -0400 (Thu, 28 May 2020)
malbec1 Linux (Ubuntu 18.04.4 LTS) / x86_64 [ ERROR ] ERROR  skipped 
nebbiolo1 Linux (Ubuntu 20.04.1 LTS) / x86_64  ERROR  ERROR  skipped 
tokay1 Windows Server 2012 R2 Standard / x64  ERROR  ERROR  skipped  skipped 
merida1 macOS 10.14.6 Mojave / x86_64  ERROR  ERROR  skipped  skipped 

Summary

Package: ChAMP
Version: 2.19.3
Command: /home/biocbuild/bbs-3.12-bioc/R/bin/R CMD INSTALL ChAMP
StartedAt: 2020-08-09 17:30:32 -0400 (Sun, 09 Aug 2020)
EndedAt: 2020-08-09 17:30:32 -0400 (Sun, 09 Aug 2020)
EllapsedTime: 0.6 seconds
RetCode: 1
Status:  ERROR 

Command output

##############################################################################
##############################################################################
###
### Running command:
###
###   /home/biocbuild/bbs-3.12-bioc/R/bin/R CMD INSTALL ChAMP
###
##############################################################################
##############################################################################


* installing to library ‘/home/biocbuild/bbs-3.12-bioc/R/library’
ERROR: dependency ‘FEM’ is not available for package ‘ChAMP’
* removing ‘/home/biocbuild/bbs-3.12-bioc/R/library/ChAMP’