Back to Multiple platform build/check report for BioC 3.12
A[B]CDEFGHIJKLMNOPQRSTUVWXYZ

BUILD report for brainflowprobes on merida1

This page was generated on 2020-08-11 12:04:47 -0400 (Tue, 11 Aug 2020).

TO THE DEVELOPERS/MAINTAINERS OF THE brainflowprobes PACKAGE: Please make sure to use the following settings in order to reproduce any error or warning you see on this page.
Package 192/1885HostnameOS / ArchINSTALLBUILDCHECKBUILD BIN
brainflowprobes 1.3.1
Amanda Price
Snapshot Date: 2020-08-10 14:50:56 -0400 (Mon, 10 Aug 2020)
URL: https://git.bioconductor.org/packages/brainflowprobes
Branch: master
Last Commit: 8556164
Last Changed Date: 2020-05-27 01:09:22 -0400 (Wed, 27 May 2020)
malbec1 Linux (Ubuntu 18.04.4 LTS) / x86_64  OK  OK  OK UNNEEDED, same version exists in internal repository
nebbiolo1 Linux (Ubuntu 20.04.1 LTS) / x86_64  OK  OK  NA 
tokay1 Windows Server 2012 R2 Standard / x64  OK  OK  OK  OK UNNEEDED, same version exists in internal repository
merida1 macOS 10.14.6 Mojave / x86_64  OK [ OK ] OK  OK UNNEEDED, same version exists in internal repository

Summary

Package: brainflowprobes
Version: 1.3.1
Command: /Library/Frameworks/R.framework/Versions/Current/Resources/bin/R CMD build --keep-empty-dirs --no-resave-data brainflowprobes
StartedAt: 2020-08-10 21:55:33 -0400 (Mon, 10 Aug 2020)
EndedAt: 2020-08-10 21:58:03 -0400 (Mon, 10 Aug 2020)
EllapsedTime: 149.8 seconds
RetCode: 0
Status:  OK 
PackageFile: brainflowprobes_1.3.1.tar.gz
PackageFileSize: 2.235 MiB

Command output

##############################################################################
##############################################################################
###
### Running command:
###
###   /Library/Frameworks/R.framework/Versions/Current/Resources/bin/R CMD build --keep-empty-dirs --no-resave-data brainflowprobes
###
##############################################################################
##############################################################################


* checking for file ‘brainflowprobes/DESCRIPTION’ ... OK
* preparing ‘brainflowprobes’:
* checking DESCRIPTION meta-information ... OK
* installing the package to build vignettes
* creating vignettes ... OK
* checking for LF line-endings in source and make files and shell scripts
* checking for empty or unneeded directories
* building ‘brainflowprobes_1.3.1.tar.gz’