Back to Multiple platform build/check report for BioC 3.12
[A]BCDEFGHIJKLMNOPQRSTUVWXYZ

BUILD BIN report for a4Preproc on tokay1

This page was generated on 2020-10-24 11:01:01 -0400 (Sat, 24 Oct 2020).

TO THE DEVELOPERS/MAINTAINERS OF THE a4Preproc PACKAGE: Please make sure to use the following settings in order to reproduce any error or warning you see on this page.
Package 5/1974HostnameOS / ArchINSTALLBUILDCHECKBUILD BIN
a4Preproc 1.37.1
Laure Cougnaud
Snapshot Date: 2020-10-23 14:40:36 -0400 (Fri, 23 Oct 2020)
URL: https://git.bioconductor.org/packages/a4Preproc
Branch: master
Last Commit: 206abad
Last Changed Date: 2020-10-15 08:58:21 -0400 (Thu, 15 Oct 2020)
malbec1 Linux (Ubuntu 18.04.4 LTS) / x86_64  OK  OK  OK YES, new version is higher than in internal repository
nebbiolo1 Linux (Ubuntu 20.04.1 LTS) / x86_64  OK  OK  OK 
tokay1 Windows Server 2012 R2 Standard / x64  OK  OK  OK [ OK ]YES, new version is higher than in internal repository
riesling1 Windows Server 2019 Standard / x64  OK  OK  OK  OK 
merida1 macOS 10.14.6 Mojave / x86_64  OK  OK  OK  OK YES, new version is higher than in internal repository

Summary

Package: a4Preproc
Version: 1.37.1
Command: rm -rf a4Preproc.buildbin-libdir && mkdir a4Preproc.buildbin-libdir && C:\Users\biocbuild\bbs-3.12-bioc\R\bin\R.exe CMD INSTALL --merge-multiarch --build --library=a4Preproc.buildbin-libdir a4Preproc_1.37.1.tar.gz
StartedAt: 2020-10-24 08:41:56 -0400 (Sat, 24 Oct 2020)
EndedAt: 2020-10-24 08:42:31 -0400 (Sat, 24 Oct 2020)
EllapsedTime: 35.4 seconds
RetCode: 0
Status:  OK  
PackageFile: a4Preproc_1.37.1.zip
PackageFileSize: 288.3 KiB

Command output

##############################################################################
##############################################################################
###
### Running command:
###
###   rm -rf a4Preproc.buildbin-libdir && mkdir a4Preproc.buildbin-libdir && C:\Users\biocbuild\bbs-3.12-bioc\R\bin\R.exe CMD INSTALL --merge-multiarch --build --library=a4Preproc.buildbin-libdir a4Preproc_1.37.1.tar.gz
###
##############################################################################
##############################################################################



install for i386

* installing *source* package 'a4Preproc' ...
** using staged installation
** R
** inst
** byte-compile and prepare package for lazy loading
** help
*** installing help indices
  converting help for package 'a4Preproc'
    finding HTML links ... done
    addGeneInfo                             html  
** building package indices
** installing vignettes
** testing if installed package can be loaded from temporary location
** testing if installed package can be loaded from final location
** testing if installed package keeps a record of temporary installation path

install for x64

* installing *source* package 'a4Preproc' ...
** testing if installed package can be loaded
* MD5 sums
packaged installation of 'a4Preproc' as a4Preproc_1.37.1.zip
* DONE (a4Preproc)