Back to Multiple platform build/check report for BioC 3.12
[A]BCDEFGHIJKLMNOPQRSTUVWXYZ

BUILD BIN report for ATACseqQC on merida1

This page was generated on 2020-08-11 12:00:27 -0400 (Tue, 11 Aug 2020).

TO THE DEVELOPERS/MAINTAINERS OF THE ATACseqQC PACKAGE: Please make sure to use the following settings in order to reproduce any error or warning you see on this page.
Package 93/1885HostnameOS / ArchINSTALLBUILDCHECKBUILD BIN
ATACseqQC 1.13.3
Jianhong Ou
Snapshot Date: 2020-08-10 14:50:56 -0400 (Mon, 10 Aug 2020)
URL: https://git.bioconductor.org/packages/ATACseqQC
Branch: master
Last Commit: 2996d20
Last Changed Date: 2020-05-29 21:55:02 -0400 (Fri, 29 May 2020)
malbec1 Linux (Ubuntu 18.04.4 LTS) / x86_64  OK  OK  OK UNNEEDED, same version exists in internal repository
nebbiolo1 Linux (Ubuntu 20.04.1 LTS) / x86_64  OK  OK  NA 
tokay1 Windows Server 2012 R2 Standard / x64  OK  OK  OK  OK UNNEEDED, same version exists in internal repository
merida1 macOS 10.14.6 Mojave / x86_64  OK  OK  OK [ OK ]UNNEEDED, same version exists in internal repository

Summary

Package: ATACseqQC
Version: 1.13.3
Command: rm -rf ATACseqQC.buildbin-libdir && mkdir ATACseqQC.buildbin-libdir && /Users/biocbuild/BBS/utils/build-universal.sh ATACseqQC_1.13.3.tar.gz /Library/Frameworks/R.framework/Versions/Current/Resources/bin/R ATACseqQC.buildbin-libdir
StartedAt: 2020-08-11 07:41:50 -0400 (Tue, 11 Aug 2020)
EndedAt: 2020-08-11 07:42:52 -0400 (Tue, 11 Aug 2020)
EllapsedTime: 61.7 seconds
RetCode: 0
Status:  OK 
PackageFile: ATACseqQC_1.13.3.tgz
PackageFileSize: 11.7 MiB

Command output

##############################################################################
##############################################################################
###
### Running command:
###
###   rm -rf ATACseqQC.buildbin-libdir && mkdir ATACseqQC.buildbin-libdir && /Users/biocbuild/BBS/utils/build-universal.sh ATACseqQC_1.13.3.tar.gz /Library/Frameworks/R.framework/Versions/Current/Resources/bin/R ATACseqQC.buildbin-libdir
###
##############################################################################
##############################################################################


>>>>>>> 
>>>>>>> INSTALLATION WITH 'R CMD INSTALL --preclean --no-multiarch --library=ATACseqQC.buildbin-libdir ATACseqQC_1.13.3.tar.gz'
>>>>>>> 

* installing *source* package ‘ATACseqQC’ ...
** using staged installation
** R
** inst
** byte-compile and prepare package for lazy loading
No methods found in package 'IRanges' for request: 'values' when loading 'GenomicScores'
** help
*** installing help indices
** building package indices
** installing vignettes
** testing if installed package can be loaded from temporary location
No methods found in package 'IRanges' for request: 'values' when loading 'GenomicScores'
** testing if installed package can be loaded from final location
No methods found in package 'IRanges' for request: 'values' when loading 'GenomicScores'
** testing if installed package keeps a record of temporary installation path
* DONE (ATACseqQC)