Back to Multiple platform build/check report for BioC 3.12
[A]BCDEFGHIJKLMNOPQRSTUVWXYZ

BUILD report for ASICS on tokay1

This page was generated on 2020-08-11 11:46:46 -0400 (Tue, 11 Aug 2020).

TO THE DEVELOPERS/MAINTAINERS OF THE ASICS PACKAGE: Please make sure to use the following settings in order to reproduce any error or warning you see on this page.
Package 87/1885HostnameOS / ArchINSTALLBUILDCHECKBUILD BIN
ASICS 2.5.3
Gaƫlle Lefort
Snapshot Date: 2020-08-10 14:50:56 -0400 (Mon, 10 Aug 2020)
URL: https://git.bioconductor.org/packages/ASICS
Branch: master
Last Commit: 6bc5327
Last Changed Date: 2020-07-20 02:38:28 -0400 (Mon, 20 Jul 2020)
malbec1 Linux (Ubuntu 18.04.4 LTS) / x86_64  OK  OK  WARNINGS UNNEEDED, same version exists in internal repository
nebbiolo1 Linux (Ubuntu 20.04.1 LTS) / x86_64  OK  OK  NA 
tokay1 Windows Server 2012 R2 Standard / x64  OK [ OK ] WARNINGS  OK UNNEEDED, same version exists in internal repository
merida1 macOS 10.14.6 Mojave / x86_64  OK  OK  WARNINGS  OK UNNEEDED, same version exists in internal repository

Summary

Package: ASICS
Version: 2.5.3
Command: chmod a+r ASICS -R && C:\Users\biocbuild\bbs-3.12-bioc\R\bin\R.exe CMD build --keep-empty-dirs --no-resave-data ASICS
StartedAt: 2020-08-10 22:03:54 -0400 (Mon, 10 Aug 2020)
EndedAt: 2020-08-10 22:07:16 -0400 (Mon, 10 Aug 2020)
EllapsedTime: 202.0 seconds
RetCode: 0
Status:  OK  
PackageFile: ASICS_2.5.3.tar.gz
PackageFileSize: 3.529 MiB

Command output

##############################################################################
##############################################################################
###
### Running command:
###
###   chmod a+r ASICS -R && C:\Users\biocbuild\bbs-3.12-bioc\R\bin\R.exe CMD build --keep-empty-dirs --no-resave-data ASICS
###
##############################################################################
##############################################################################


* checking for file 'ASICS/DESCRIPTION' ... OK
* preparing 'ASICS':
* checking DESCRIPTION meta-information ... OK
* installing the package to build vignettes
* creating vignettes ... OK
* checking for LF line-endings in source and make files and shell scripts
* checking for empty or unneeded directories
* building 'ASICS_2.5.3.tar.gz'