Back to Multiple platform build/check report for BioC 3.12
A[B]CDEFGHIJKLMNOPQRSTUVWXYZ

INSTALL report for BEAT on malbec1

This page was generated on 2020-08-11 11:19:45 -0400 (Tue, 11 Aug 2020).

TO THE DEVELOPERS/MAINTAINERS OF THE BEAT PACKAGE: Please make sure to use the following settings in order to reproduce any error or warning you see on this page.
Package 130/1885HostnameOS / ArchINSTALLBUILDCHECKBUILD BIN
BEAT 1.27.0
Kemal Akman
Snapshot Date: 2020-08-10 14:50:56 -0400 (Mon, 10 Aug 2020)
URL: https://git.bioconductor.org/packages/BEAT
Branch: master
Last Commit: c69043d
Last Changed Date: 2020-04-27 14:37:58 -0400 (Mon, 27 Apr 2020)
malbec1 Linux (Ubuntu 18.04.4 LTS) / x86_64 [ OK ] OK  OK UNNEEDED, same version exists in internal repository
nebbiolo1 Linux (Ubuntu 20.04.1 LTS) / x86_64  OK  OK  NA 
tokay1 Windows Server 2012 R2 Standard / x64  OK  OK  OK  OK UNNEEDED, same version exists in internal repository
merida1 macOS 10.14.6 Mojave / x86_64  OK  OK  OK  OK UNNEEDED, same version exists in internal repository

Summary

Package: BEAT
Version: 1.27.0
Command: /home/biocbuild/bbs-3.12-bioc/R/bin/R CMD INSTALL BEAT
StartedAt: 2020-08-10 16:54:09 -0400 (Mon, 10 Aug 2020)
EndedAt: 2020-08-10 16:54:45 -0400 (Mon, 10 Aug 2020)
EllapsedTime: 36.1 seconds
RetCode: 0
Status:  OK 

Command output

##############################################################################
##############################################################################
###
### Running command:
###
###   /home/biocbuild/bbs-3.12-bioc/R/bin/R CMD INSTALL BEAT
###
##############################################################################
##############################################################################


* installing to library ‘/home/biocbuild/bbs-3.12-bioc/R/library’
* installing *source* package ‘BEAT’ ...
** using staged installation
** R
** data
** inst
** byte-compile and prepare package for lazy loading
** help
*** installing help indices
** building package indices
** installing vignettes
** testing if installed package can be loaded from temporary location
** testing if installed package can be loaded from final location
** testing if installed package keeps a record of temporary installation path
* DONE (BEAT)